Workbook

Sheet 农化拟报废设备28项
F1: 丰乐农化 固定资产（设备）报废申请表
C2: 新系统 | P2: 日期：2026.4.30 | Y2: 金额单位：人民币元
A3: 序号 | B3: 设备编号 | C3: 固定资产编码 | D3: 设备名称 | E3: 规格型号 | F3: 使用单位 | G3: 生产厂家 | H3: 计量 单位 | I3: 数量 | J3: 购置日期 | K3: 启用日期 | L3: 审计前账面值 | N3: 审计调整 | P3: 账面金额 | T3: 评估价值 | X3: 增值率% | Y3: 备 注 | Z3: 资产状态 | AA3: 使用寿命 | AB3: 会计折旧年限
L4: 账面原值 | M4: 账面净值 | N4: 账面原值 | O4: 账面净值 | P4: 账面原值 | Q4: 累计折旧 | R4: 账面净值20260430 | S4: 累计减值准备 | T4: 实际数量 | U4: 重置全价 | V4: 成新率% | W4: 评估价值 | AL4: 固定资产类别 | AM4: U8号 | AN4: 固定资产编码 | AO4: 固定资产名称 | AP4: 固定资产规格 | AQ4: 开始使用日期 | AR4: 本币原值 | AS4: 本币净残值 | AT4: 本币本年折旧 | AU4: 本币累计折旧 | AV4: 本币本年减值 | AW4: 本币累计减值 | AX4: 本币账面净值 | AY4: 本币账面价值 | AZ4: 管理部门 | BA4: 供应商
A5: 1 | B5: 031400029 | C5: 01042601230000063884 | D5: 砂磨分散多用金 | E5: SFG-400 | F5: 研发中心 | G5: 上海现代环境工程 | H5: 台 | I5: 1 | J5: 2016-12-07 | K5: 2016-12-07 | P5: 4358.97 | Q5: 4184.61 | R5: 174.36 | S5: 174.36 | AL5: =VLOOKUP(B5,固台账20260430!$E$9:$BG$4600,2,FALSE) -> 固定资产.机器设备 | AM5: =VLOOKUP(B5,固台账20260430!$E$9:$BG$4600,1,FALSE) -> 031400029 | AN5: =VLOOKUP(B5,固台账20260430!$E$9:$BG$4600,3,FALSE) -> 01042601230000063884 | AO5: =VLOOKUP(B5,固台账20260430!$E$9:$BG$4600,4,FALSE) -> 砂磨分散多用金 | AP5: =VLOOKUP(B5,固台账20260430!$E$9:$BG$4600,5,FALSE) -> SFG-400 | AQ5: =VLOOKUP(B5,固台账20260430!$E$9:$BG$4600,16,FALSE) -> 2016-12-07 | AR5: =VLOOKUP(B5,固台账20260430!$E$9:$BG$4600,44,FALSE) -> 4358.97 | AS5: =VLOOKUP(B5,固台账20260430!$E$9:$BG$4600,45,FALSE) -> 174.36 | AT5: =VLOOKUP(B5,固台账20260430!$E$9:$BG$4600,49,FALSE) -> 0 | AU5: =VLOOKUP(B5,固台账20260430!$E$9:$BG$4600,50,FALSE) -> 4184.61 | AV5: =VLOOKUP(B5,固台账20260430!$E$9:$BG$4600,51,FALSE) -> 174.36 | AW5: =VLOOKUP(B5,固台账20260430!$E$9:$BG$4600,52,FALSE) -> 174.36 | AX5: =VLOOKUP(B5,固台账20260430!$E$9:$BG$4600,53,FALSE) -> 174.36 | AY5: =VLOOKUP(B5,固台账20260430!$E$9:$BG$4600,54,FALSE) -> 0 | AZ5: =VLOOKUP(B5,固台账20260430!$E$9:$BG$4600,20,FALSE) -> 研发中心 | BA5: =VLOOKUP(B5,固台账20260430!$E$9:$BG$4600,15,FALSE) -> 待梳理事项
A6: 2 | B6: 031400030 | C6: 01042601230000063890 | D6: 砂磨分散多用金 | E6: SFG-400 | F6: 研发中心 | G6: 上海现代环境工程 | H6: 台 | I6: 1 | J6: 2016-12-07 | K6: 2016-12-07 | P6: 4358.98 | Q6: 4184.62 | R6: 174.36 | S6: 174.36 | AL6: =VLOOKUP(B6,固台账20260430!$E$9:$BG$4600,2,FALSE) -> 固定资产.机器设备 | AM6: =VLOOKUP(B6,固台账20260430!$E$9:$BG$4600,1,FALSE) -> 031400030 | AN6: =VLOOKUP(B6,固台账20260430!$E$9:$BG$4600,3,FALSE) -> 01042601230000063890 | AO6: =VLOOKUP(B6,固台账20260430!$E$9:$BG$4600,4,FALSE) -> 砂磨分散多用金 | AP6: =VLOOKUP(B6,固台账20260430!$E$9:$BG$4600,5,FALSE) -> SFG-400 | AQ6: =VLOOKUP(B6,固台账20260430!$E$9:$BG$4600,16,FALSE) -> 2016-12-07 | AR6: =VLOOKUP(B6,固台账20260430!$E$9:$BG$4600,44,FALSE) -> 4358.98 | AS6: =VLOOKUP(B6,固台账20260430!$E$9:$BG$4600,45,FALSE) -> 174.36 | AT6: =VLOOKUP(B6,固台账20260430!$E$9:$BG$4600,49,FALSE) -> 0 | AU6: =VLOOKUP(B6,固台账20260430!$E$9:$BG$4600,50,FALSE) -> 4184.62 | AV6: =VLOOKUP(B6,固台账20260430!$E$9:$BG$4600,51,FALSE) -> 174.36 | AW6: =VLOOKUP(B6,固台账20260430!$E$9:$BG$4600,52,FALSE) -> 174.36 | AX6: =VLOOKUP(B6,固台账20260430!$E$9:$BG$4600,53,FALSE) -> 174.36 | AY6: =VLOOKUP(B6,固台账20260430!$E$9:$BG$4600,54,FALSE) -> 0 | AZ6: =VLOOKUP(B6,固台账20260430!$E$9:$BG$4600,20,FALSE) -> 研发中心 | BA6: =VLOOKUP(B6,固台账20260430!$E$9:$BG$4600,15,FALSE) -> 待梳理事项
A7: 3 | B7: 031000177 | C7: 01042601230000062196 | D7: 智能光照培养箱 | E7: GZP-250A | F7: 肥东制剂分厂 | G7: 南京恒裕电子仪器厂 | H7: 台 | I7: 1 | J7: 2012-06-30 | K7: 2012-06-30 | P7: 4957.26 | Q7: 4758.97 | R7: 198.29 | S7: 198.29 | AL7: =VLOOKUP(B7,固台账20260430!$E$9:$BG$4600,2,FALSE) -> 固定资产.机器设备 | AM7: =VLOOKUP(B7,固台账20260430!$E$9:$BG$4600,1,FALSE) -> 031000177 | AN7: =VLOOKUP(B7,固台账20260430!$E$9:$BG$4600,3,FALSE) -> 01042601230000062196 | AO7: =VLOOKUP(B7,固台账20260430!$E$9:$BG$4600,4,FALSE) -> 智能光照培养箱 | AP7: =VLOOKUP(B7,固台账20260430!$E$9:$BG$4600,5,FALSE) -> GZP-250A | AQ7: =VLOOKUP(B7,固台账20260430!$E$9:$BG$4600,16,FALSE) -> 2012-06-30 | AR7: =VLOOKUP(B7,固台账20260430!$E$9:$BG$4600,44,FALSE) -> 4957.26 | AS7: =VLOOKUP(B7,固台账20260430!$E$9:$BG$4600,45,FALSE) -> 198.29 | AT7: =VLOOKUP(B7,固台账20260430!$E$9:$BG$4600,49,FALSE) -> 0 | AU7: =VLOOKUP(B7,固台账20260430!$E$9:$BG$4600,50,FALSE) -> 4758.97 | AV7: =VLOOKUP(B7,固台账20260430!$E$9:$BG$4600,51,FALSE) -> 198.29 | AW7: =VLOOKUP(B7,固台账20260430!$E$9:$BG$4600,52,FALSE) -> 198.29 | AX7: =VLOOKUP(B7,固台账20260430!$E$9:$BG$4600,53,FALSE) -> 198.29 | AY7: =VLOOKUP(B7,固台账20260430!$E$9:$BG$4600,54,FALSE) -> 0 | AZ7: =VLOOKUP(B7,固台账20260430!$E$9:$BG$4600,20,FALSE) -> 制剂分厂 | BA7: =VLOOKUP(B7,固台账20260430!$E$9:$BG$4600,15,FALSE) -> 待梳理事项
A8: 4 | B8: 031400025 | C8: 01042601230000063529 | D8: 0.5H卧式砂磨机一台 | E8: RT-0.5H | F8: 研发中心 | G8: 上海儒特机电设备 | H8: 台 | I8: 1 | J8: 42349 | K8: 2015-12-11 | P8: 21367.52 | Q8: 20512.82 | R8: 854.7 | S8: 854.7 | AL8: =VLOOKUP(B8,固台账20260430!$E$9:$BG$4600,2,FALSE) -> 固定资产.机器设备 | AM8: =VLOOKUP(B8,固台账20260430!$E$9:$BG$4600,1,FALSE) -> 031400025 | AN8: =VLOOKUP(B8,固台账20260430!$E$9:$BG$4600,3,FALSE) -> 01042601230000063529 | AO8: =VLOOKUP(B8,固台账20260430!$E$9:$BG$4600,4,FALSE) -> 0.5H卧式砂磨机一台 | AP8: =VLOOKUP(B8,固台账20260430!$E$9:$BG$4600,5,FALSE) -> RT-0.5H | AQ8: =VLOOKUP(B8,固台账20260430!$E$9:$BG$4600,16,FALSE) -> 2015-12-11 | AR8: =VLOOKUP(B8,固台账20260430!$E$9:$BG$4600,44,FALSE) -> 21367.52 | AS8: =VLOOKUP(B8,固台账20260430!$E$9:$BG$4600,45,FALSE) -> 854.7 | AT8: =VLOOKUP(B8,固台账20260430!$E$9:$BG$4600,49,FALSE) -> 0 | AU8: =VLOOKUP(B8,固台账20260430!$E$9:$BG$4600,50,FALSE) -> 20512.82 | AV8: =VLOOKUP(B8,固台账20260430!$E$9:$BG$4600,51,FALSE) -> 854.7 | AW8: =VLOOKUP(B8,固台账20260430!$E$9:$BG$4600,52,FALSE) -> 854.7 | AX8: =VLOOKUP(B8,固台账20260430!$E$9:$BG$4600,53,FALSE) -> 854.7 | AY8: =VLOOKUP(B8,固台账20260430!$E$9:$BG$4600,54,FALSE) -> 0 | AZ8: =VLOOKUP(B8,固台账20260430!$E$9:$BG$4600,20,FALSE) -> 研发中心 | BA8: =VLOOKUP(B8,固台账20260430!$E$9:$BG$4600,15,FALSE) -> 上海儒特机电设备有限公司
A9: 5 | B9: 031800018 | C9: 01042601230000063891 | D9: 工业用螺杆冷水机组及附件 | E9: ICW100 | F9: 肥东制剂分厂 | G9: 南京久鼎制冷空调设备 | H9: 台 | I9: 1 | J9: 2016-12-12 | K9: 2016-12-12 | P9: 102564.1 | Q9: 98461.54 | R9: 4102.56 | S9: 4102.56 | AL9: =VLOOKUP(B9,固台账20260430!$E$9:$BG$4600,2,FALSE) -> 固定资产.机器设备 | AM9: =VLOOKUP(B9,固台账20260430!$E$9:$BG$4600,1,FALSE) -> 031800018 | AN9: =VLOOKUP(B9,固台账20260430!$E$9:$BG$4600,3,FALSE) -> 01042601230000063891 | AO9: =VLOOKUP(B9,固台账20260430!$E$9:$BG$4600,4,FALSE) -> 工业用螺杆冷水机组及附件 | AP9: =VLOOKUP(B9,固台账20260430!$E$9:$BG$4600,5,FALSE) -> ICW100 | AQ9: =VLOOKUP(B9,固台账20260430!$E$9:$BG$4600,16,FALSE) -> 2016-12-12 | AR9: =VLOOKUP(B9,固台账20260430!$E$9:$BG$4600,44,FALSE) -> 102564.1 | AS9: =VLOOKUP(B9,固台账20260430!$E$9:$BG$4600,45,FALSE) -> 4102.56 | AT9: =VLOOKUP(B9,固台账20260430!$E$9:$BG$4600,49,FALSE) -> 0 | AU9: =VLOOKUP(B9,固台账20260430!$E$9:$BG$4600,50,FALSE) -> 98461.54 | AV9: =VLOOKUP(B9,固台账20260430!$E$9:$BG$4600,51,FALSE) -> 4102.56 | AW9: =VLOOKUP(B9,固台账20260430!$E$9:$BG$4600,52,FALSE) -> 4102.56 | AX9: =VLOOKUP(B9,固台账20260430!$E$9:$BG$4600,53,FALSE) -> 4102.56 | AY9: =VLOOKUP(B9,固台账20260430!$E$9:$BG$4600,54,FALSE) -> 0 | AZ9: =VLOOKUP(B9,固台账20260430!$E$9:$BG$4600,20,FALSE) -> 制剂分厂 | BA9: =VLOOKUP(B9,固台账20260430!$E$9:$BG$4600,15,FALSE) -> 南京久鼎环境科技股份有限公司
A10: 6 | B10: 031000224-4 | C10: 01042604270000000384 | D10: 直列式灌装机 | E10: CDP-16B | F10: 肥东制剂分厂 | G10: 江苏金旺包装科技涌现公司 | H10: 台 | I10: 1 | J10: 2012-10-31 | K10: 2012-10-31 | P10: 47863.24 | Q10: 45948.71 | R10: 1914.53 | S10: 1914.53 | Y10: （原卡拆分4张-04） | AL10: =VLOOKUP(B10,固台账20260430!$E$9:$BG$4600,2,FALSE) -> 固定资产.机器设备 | AM10: =VLOOKUP(B10,固台账20260430!$E$9:$BG$4600,1,FALSE) -> 031000224-4 | AN10: =VLOOKUP(B10,固台账20260430!$E$9:$BG$4600,3,FALSE) -> 01042604270000000384 | AO10: =VLOOKUP(B10,固台账20260430!$E$9:$BG$4600,4,FALSE) -> 直列式灌装机（原卡拆分4张-04） | AP10: =VLOOKUP(B10,固台账20260430!$E$9:$BG$4600,5,FALSE) -> CDP-16B | AQ10: =VLOOKUP(B10,固台账20260430!$E$9:$BG$4600,16,FALSE) -> 2012-10-31 | AR10: =VLOOKUP(B10,固台账20260430!$E$9:$BG$4600,44,FALSE) -> 47863.24 | AS10: =VLOOKUP(B10,固台账20260430!$E$9:$BG$4600,45,FALSE) -> 1914.53 | AT10: =VLOOKUP(B10,固台账20260430!$E$9:$BG$4600,49,FALSE) -> 0 | AU10: =VLOOKUP(B10,固台账20260430!$E$9:$BG$4600,50,FALSE) -> 45948.71 | AV10: =VLOOKUP(B10,固台账20260430!$E$9:$BG$4600,51,FALSE) -> - | AW10: =VLOOKUP(B10,固台账20260430!$E$9:$BG$4600,52,FALSE) -> 1914.53 | AX10: =VLOOKUP(B10,固台账20260430!$E$9:$BG$4600,53,FALSE) -> 1914.53 | AY10: =VLOOKUP(B10,固台账20260430!$E$9:$BG$4600,54,FALSE) -> 0 | AZ10: =VLOOKUP(B10,固台账20260430!$E$9:$BG$4600,20,FALSE) -> 制剂分厂 | BA10: =VLOOKUP(B10,固台账20260430!$E$9:$BG$4600,15,FALSE) -> 待梳理事项
A11: 7 | B11: 031000257 | C11: 01042601230000062432 | D11: 剂型液剂包装自动线 | E11: KZP.ZXT-2A | F11: 肥东制剂分厂 | G11: 杭州永创 | H11: 台 | I11: 1 | J11: 2012-12-29 | K11: 2012-12-29 | P11: 264500 | Q11: 253920 | R11: 10580 | S11: 10580 | AL11: =VLOOKUP(B11,固台账20260430!$E$9:$BG$4600,2,FALSE) -> 固定资产.机器设备 | AM11: =VLOOKUP(B11,固台账20260430!$E$9:$BG$4600,1,FALSE) -> 031000257 | AN11: =VLOOKUP(B11,固台账20260430!$E$9:$BG$4600,3,FALSE) -> 01042601230000062432 | AO11: =VLOOKUP(B11,固台账20260430!$E$9:$BG$4600,4,FALSE) -> 剂型液剂包装自动线 | AP11: =VLOOKUP(B11,固台账20260430!$E$9:$BG$4600,5,FALSE) -> KZP.ZXT-2A | AQ11: =VLOOKUP(B11,固台账20260430!$E$9:$BG$4600,16,FALSE) -> 2012-12-29 | AR11: =VLOOKUP(B11,固台账20260430!$E$9:$BG$4600,44,FALSE) -> 264500 | AS11: =VLOOKUP(B11,固台账20260430!$E$9:$BG$4600,45,FALSE) -> 10580 | AT11: =VLOOKUP(B11,固台账20260430!$E$9:$BG$4600,49,FALSE) -> 0 | AU11: =VLOOKUP(B11,固台账20260430!$E$9:$BG$4600,50,FALSE) -> 253920 | AV11: =VLOOKUP(B11,固台账20260430!$E$9:$BG$4600,51,FALSE) -> 10580 | AW11: =VLOOKUP(B11,固台账20260430!$E$9:$BG$4600,52,FALSE) -> 10580 | AX11: =VLOOKUP(B11,固台账20260430!$E$9:$BG$4600,53,FALSE) -> 10580 | AY11: =VLOOKUP(B11,固台账20260430!$E$9:$BG$4600,54,FALSE) -> 0 | AZ11: =VLOOKUP(B11,固台账20260430!$E$9:$BG$4600,20,FALSE) -> 制剂分厂 | BA11: =VLOOKUP(B11,固台账20260430!$E$9:$BG$4600,15,FALSE) -> 待梳理事项
A12: 8 | B12: 031022737 | C12: 01042601230000061668 | D12: 电动隔膜泵 | E12: DYB-65 | F12: 肥东制剂分厂 | G12: 上海华工 | H12: 台 | I12: 1 | J12: 2019-05-31 | K12: 2019-05-31 | P12: 8189.66 | Q12: 6731.1 | R12: 1458.56 | S12: 1458.56 | AL12: =VLOOKUP(B12,固台账20260430!$E$9:$BG$4600,2,FALSE) -> 固定资产.机器设备 | AM12: =VLOOKUP(B12,固台账20260430!$E$9:$BG$4600,1,FALSE) -> 031022737 | AN12: =VLOOKUP(B12,固台账20260430!$E$9:$BG$4600,3,FALSE) -> 01042601230000061668 | AO12: =VLOOKUP(B12,固台账20260430!$E$9:$BG$4600,4,FALSE) -> 电动隔膜泵 | AP12: =VLOOKUP(B12,固台账20260430!$E$9:$BG$4600,5,FALSE) -> DBY-65ZF(防爆） | AQ12: =VLOOKUP(B12,固台账20260430!$E$9:$BG$4600,16,FALSE) -> 2019-05-31 | AR12: =VLOOKUP(B12,固台账20260430!$E$9:$BG$4600,44,FALSE) -> 8189.66 | AS12: =VLOOKUP(B12,固台账20260430!$E$9:$BG$4600,45,FALSE) -> 327.59 | AT12: =VLOOKUP(B12,固台账20260430!$E$9:$BG$4600,49,FALSE) -> 261 | AU12: =VLOOKUP(B12,固台账20260430!$E$9:$BG$4600,50,FALSE) -> 6731.1 | AV12: =VLOOKUP(B12,固台账20260430!$E$9:$BG$4600,51,FALSE) -> 1458.56 | AW12: =VLOOKUP(B12,固台账20260430!$E$9:$BG$4600,52,FALSE) -> 1458.56 | AX12: =VLOOKUP(B12,固台账20260430!$E$9:$BG$4600,53,FALSE) -> 1458.56 | AY12: =VLOOKUP(B12,固台账20260430!$E$9:$BG$4600,54,FALSE) -> 0 | AZ12: =VLOOKUP(B12,固台账20260430!$E$9:$BG$4600,20,FALSE) -> 制剂分厂 | BA12: =VLOOKUP(B12,固台账20260430!$E$9:$BG$4600,15,FALSE) -> 上海华工水泵厂
A13: 9 | B13: 031000226-7 | C13: 01042604270000000392 | D13: 全自动上盖机 | E13: SGJ-2 | F13: 肥东制剂分厂 | G13: 晨光轻工机械 | H13: 台 | I13: 1 | J13: 2012-10-31 | K13: 2012-10-31 | P13: 8547.01 | Q13: 8205.13 | R13: 341.88 | S13: 341.88 | Y13: （原卡拆分8张-07） | AL13: =VLOOKUP(B13,固台账20260430!$E$9:$BG$4600,2,FALSE) -> 固定资产.机器设备 | AM13: =VLOOKUP(B13,固台账20260430!$E$9:$BG$4600,1,FALSE) -> 031000226-7 | AN13: =VLOOKUP(B13,固台账20260430!$E$9:$BG$4600,3,FALSE) -> 01042604270000000392 | AO13: =VLOOKUP(B13,固台账20260430!$E$9:$BG$4600,4,FALSE) -> 全自动上盖机（原卡拆分8张-07） | AP13: =VLOOKUP(B13,固台账20260430!$E$9:$BG$4600,5,FALSE) -> SGJ-2 | AQ13: =VLOOKUP(B13,固台账20260430!$E$9:$BG$4600,16,FALSE) -> 2012-10-31 | AR13: =VLOOKUP(B13,固台账20260430!$E$9:$BG$4600,44,FALSE) -> 8547.01 | AS13: =VLOOKUP(B13,固台账20260430!$E$9:$BG$4600,45,FALSE) -> 341.88 | AT13: =VLOOKUP(B13,固台账20260430!$E$9:$BG$4600,49,FALSE) -> 0 | AU13: =VLOOKUP(B13,固台账20260430!$E$9:$BG$4600,50,FALSE) -> 8205.13 | AV13: =VLOOKUP(B13,固台账20260430!$E$9:$BG$4600,51,FALSE) -> - | AW13: =VLOOKUP(B13,固台账20260430!$E$9:$BG$4600,52,FALSE) -> 341.88 | AX13: =VLOOKUP(B13,固台账20260430!$E$9:$BG$4600,53,FALSE) -> 341.88 | AY13: =VLOOKUP(B13,固台账20260430!$E$9:$BG$4600,54,FALSE) -> 0 | AZ13: =VLOOKUP(B13,固台账20260430!$E$9:$BG$4600,20,FALSE) -> 制剂分厂 | BA13: =VLOOKUP(B13,固台账20260430!$E$9:$BG$4600,15,FALSE) -> 待梳理事项
A14: 10 | B14: 031000226-8 | C14: 01042604270000000393 | D14: 全自动上盖机 | E14: SGJ-2 | F14: 肥东制剂分厂 | G14: 晨光轻工机械 | H14: 台 | I14: 1 | J14: 2012-10-31 | K14: 2012-10-31 | P14: 8547 | Q14: 8205.12 | R14: 341.88 | S14: 341.88 | Y14: （原卡拆分8张-08） | AL14: =VLOOKUP(B14,固台账20260430!$E$9:$BG$4600,2,FALSE) -> 固定资产.机器设备 | AM14: =VLOOKUP(B14,固台账20260430!$E$9:$BG$4600,1,FALSE) -> 031000226-8 | AN14: =VLOOKUP(B14,固台账20260430!$E$9:$BG$4600,3,FALSE) -> 01042604270000000393 | AO14: =VLOOKUP(B14,固台账20260430!$E$9:$BG$4600,4,FALSE) -> 全自动上盖机（原卡拆分8张-08） | AP14: =VLOOKUP(B14,固台账20260430!$E$9:$BG$4600,5,FALSE) -> SGJ-2 | AQ14: =VLOOKUP(B14,固台账20260430!$E$9:$BG$4600,16,FALSE) -> 2012-10-31 | AR14: =VLOOKUP(B14,固台账20260430!$E$9:$BG$4600,44,FALSE) -> 8547 | AS14: =VLOOKUP(B14,固台账20260430!$E$9:$BG$4600,45,FALSE) -> 341.88 | AT14: =VLOOKUP(B14,固台账20260430!$E$9:$BG$4600,49,FALSE) -> 0 | AU14: =VLOOKUP(B14,固台账20260430!$E$9:$BG$4600,50,FALSE) -> 8205.12 | AV14: =VLOOKUP(B14,固台账20260430!$E$9:$BG$4600,51,FALSE) -> - | AW14: =VLOOKUP(B14,固台账20260430!$E$9:$BG$4600,52,FALSE) -> 341.88 | AX14: =VLOOKUP(B14,固台账20260430!$E$9:$BG$4600,53,FALSE) -> 341.88 | AY14: =VLOOKUP(B14,固台账20260430!$E$9:$BG$4600,54,FALSE) -> 0 | AZ14: =VLOOKUP(B14,固台账20260430!$E$9:$BG$4600,20,FALSE) -> 制剂分厂 | BA14: =VLOOKUP(B14,固台账20260430!$E$9:$BG$4600,15,FALSE) -> 待梳理事项
A15: 11 | B15: 031000167-1 | C15: 01042604270000000394 | D15: 上料机 | F15: 肥东制剂分厂 | H15: 台 | I15: 1 | J15: 2010-05-20 | K15: 2010-05-20 | P15: 12820.51 | Q15: 12307.69 | R15: 512.82 | S15: 512.82 | Y15: （原卡拆分3张-01） | AL15: =VLOOKUP(B15,固台账20260430!$E$9:$BG$4600,2,FALSE) -> 固定资产.机器设备 | AM15: =VLOOKUP(B15,固台账20260430!$E$9:$BG$4600,1,FALSE) -> 031000167-1 | AN15: =VLOOKUP(B15,固台账20260430!$E$9:$BG$4600,3,FALSE) -> 01042604270000000394 | AO15: =VLOOKUP(B15,固台账20260430!$E$9:$BG$4600,4,FALSE) -> 上料机（原卡拆分3张-01） | AP15: =VLOOKUP(B15,固台账20260430!$E$9:$BG$4600,5,FALSE) -> 0 | AQ15: =VLOOKUP(B15,固台账20260430!$E$9:$BG$4600,16,FALSE) -> 2010-05-20 | AR15: =VLOOKUP(B15,固台账20260430!$E$9:$BG$4600,44,FALSE) -> 12820.51 | AS15: =VLOOKUP(B15,固台账20260430!$E$9:$BG$4600,45,FALSE) -> 512.82 | AT15: =VLOOKUP(B15,固台账20260430!$E$9:$BG$4600,49,FALSE) -> 0 | AU15: =VLOOKUP(B15,固台账20260430!$E$9:$BG$4600,50,FALSE) -> 12307.69 | AV15: =VLOOKUP(B15,固台账20260430!$E$9:$BG$4600,51,FALSE) -> - | AW15: =VLOOKUP(B15,固台账20260430!$E$9:$BG$4600,52,FALSE) -> 512.82 | AX15: =VLOOKUP(B15,固台账20260430!$E$9:$BG$4600,53,FALSE) -> 512.82 | AY15: =VLOOKUP(B15,固台账20260430!$E$9:$BG$4600,54,FALSE) -> 0 | AZ15: =VLOOKUP(B15,固台账20260430!$E$9:$BG$4600,20,FALSE) -> 制剂分厂 | BA15: =VLOOKUP(B15,固台账20260430!$E$9:$BG$4600,15,FALSE) -> 待梳理事项
A16: 12 | B16: 031000167-2 | C16: 01042604270000000395 | D16: 上料机 | F16: 肥东制剂分厂 | H16: 台 | I16: 1 | J16: 2010-05-20 | K16: 2010-05-20 | P16: 12820.51 | Q16: 12307.69 | R16: 512.82 | S16: 512.82 | Y16: （原卡拆分3张-02） | AL16: =VLOOKUP(B16,固台账20260430!$E$9:$BG$4600,2,FALSE) -> 固定资产.机器设备 | AM16: =VLOOKUP(B16,固台账20260430!$E$9:$BG$4600,1,FALSE) -> 031000167-2 | AN16: =VLOOKUP(B16,固台账20260430!$E$9:$BG$4600,3,FALSE) -> 01042604270000000395 | AO16: =VLOOKUP(B16,固台账20260430!$E$9:$BG$4600,4,FALSE) -> 上料机（原卡拆分3张-02） | AP16: =VLOOKUP(B16,固台账20260430!$E$9:$BG$4600,5,FALSE) -> 0 | AQ16: =VLOOKUP(B16,固台账20260430!$E$9:$BG$4600,16,FALSE) -> 2010-05-20 | AR16: =VLOOKUP(B16,固台账20260430!$E$9:$BG$4600,44,FALSE) -> 12820.51 | AS16: =VLOOKUP(B16,固台账20260430!$E$9:$BG$4600,45,FALSE) -> 512.82 | AT16: =VLOOKUP(B16,固台账20260430!$E$9:$BG$4600,49,FALSE) -> 0 | AU16: =VLOOKUP(B16,固台账20260430!$E$9:$BG$4600,50,FALSE) -> 12307.69 | AV16: =VLOOKUP(B16,固台账20260430!$E$9:$BG$4600,51,FALSE) -> - | AW16: =VLOOKUP(B16,固台账20260430!$E$9:$BG$4600,52,FALSE) -> 512.82 | AX16: =VLOOKUP(B16,固台账20260430!$E$9:$BG$4600,53,FALSE) -> 512.82 | AY16: =VLOOKUP(B16,固台账20260430!$E$9:$BG$4600,54,FALSE) -> 0 | AZ16: =VLOOKUP(B16,固台账20260430!$E$9:$BG$4600,20,FALSE) -> 制剂分厂 | BA16: =VLOOKUP(B16,固台账20260430!$E$9:$BG$4600,15,FALSE) -> 待梳理事项
A17: 13 | B17: 031000167-3 | C17: 01042604270000000396 | D17: 上料机 | F17: 肥东制剂分厂 | H17: 台 | I17: 1 | J17: 2010-05-20 | K17: 2010-05-20 | P17: 12820.52 | Q17: 12307.7 | R17: 512.82 | S17: 512.82 | Y17: （原卡拆分3张-03） | AL17: =VLOOKUP(B17,固台账20260430!$E$9:$BG$4600,2,FALSE) -> 固定资产.机器设备 | AM17: =VLOOKUP(B17,固台账20260430!$E$9:$BG$4600,1,FALSE) -> 031000167-3 | AN17: =VLOOKUP(B17,固台账20260430!$E$9:$BG$4600,3,FALSE) -> 01042604270000000396 | AO17: =VLOOKUP(B17,固台账20260430!$E$9:$BG$4600,4,FALSE) -> 上料机（原卡拆分3张-03） | AP17: =VLOOKUP(B17,固台账20260430!$E$9:$BG$4600,5,FALSE) -> 0 | AQ17: =VLOOKUP(B17,固台账20260430!$E$9:$BG$4600,16,FALSE) -> 2010-05-20 | AR17: =VLOOKUP(B17,固台账20260430!$E$9:$BG$4600,44,FALSE) -> 12820.52 | AS17: =VLOOKUP(B17,固台账20260430!$E$9:$BG$4600,45,FALSE) -> 512.82 | AT17: =VLOOKUP(B17,固台账20260430!$E$9:$BG$4600,49,FALSE) -> 0 | AU17: =VLOOKUP(B17,固台账20260430!$E$9:$BG$4600,50,FALSE) -> 12307.7 | AV17: =VLOOKUP(B17,固台账20260430!$E$9:$BG$4600,51,FALSE) -> - | AW17: =VLOOKUP(B17,固台账20260430!$E$9:$BG$4600,52,FALSE) -> 512.82 | AX17: =VLOOKUP(B17,固台账20260430!$E$9:$BG$4600,53,FALSE) -> 512.82 | AY17: =VLOOKUP(B17,固台账20260430!$E$9:$BG$4600,54,FALSE) -> 0 | AZ17: =VLOOKUP(B17,固台账20260430!$E$9:$BG$4600,20,FALSE) -> 制剂分厂 | BA17: =VLOOKUP(B17,固台账20260430!$E$9:$BG$4600,15,FALSE) -> 待梳理事项
A18: 14 | B18: 031900042 | C18: 01042601230000062958 | D18: 苯磺隆颗粒剂成套连续化生产装置--负压上料机 | F18: 肥东制剂分厂 | G18: 江阴市昌盛药化机械 | H18: 台 | I18: 1 | J18: 2017-10-12 | K18: 2017-10-12 | P18: 9401.71 | Q18: 9025.64 | R18: 376.07 | S18: 376.07 | AL18: =VLOOKUP(B18,固台账20260430!$E$9:$BG$4600,2,FALSE) -> 固定资产.机器设备 | AM18: =VLOOKUP(B18,固台账20260430!$E$9:$BG$4600,1,FALSE) -> 031900042 | AN18: =VLOOKUP(B18,固台账20260430!$E$9:$BG$4600,3,FALSE) -> 01042601230000062958 | AO18: =VLOOKUP(B18,固台账20260430!$E$9:$BG$4600,4,FALSE) -> 苯磺隆颗粒剂成装置--负压上料机 | AP18: =VLOOKUP(B18,固台账20260430!$E$9:$BG$4600,5,FALSE) -> 0 | AQ18: =VLOOKUP(B18,固台账20260430!$E$9:$BG$4600,16,FALSE) -> 2017-10-12 | AR18: =VLOOKUP(B18,固台账20260430!$E$9:$BG$4600,44,FALSE) -> 9401.71 | AS18: =VLOOKUP(B18,固台账20260430!$E$9:$BG$4600,45,FALSE) -> 376.07 | AT18: =VLOOKUP(B18,固台账20260430!$E$9:$BG$4600,49,FALSE) -> 0 | AU18: =VLOOKUP(B18,固台账20260430!$E$9:$BG$4600,50,FALSE) -> 9025.64 | AV18: =VLOOKUP(B18,固台账20260430!$E$9:$BG$4600,51,FALSE) -> 376.07 | AW18: =VLOOKUP(B18,固台账20260430!$E$9:$BG$4600,52,FALSE) -> 376.07 | AX18: =VLOOKUP(B18,固台账20260430!$E$9:$BG$4600,53,FALSE) -> 376.07 | AY18: =VLOOKUP(B18,固台账20260430!$E$9:$BG$4600,54,FALSE) -> 0 | AZ18: =VLOOKUP(B18,固台账20260430!$E$9:$BG$4600,20,FALSE) -> 制剂分厂 | BA18: =VLOOKUP(B18,固台账20260430!$E$9:$BG$4600,15,FALSE) -> 江阴市昌盛药化机械有限公司
A19: 15 | B19: 031900044 | C19: 01042601230000062969 | D19: 苯磺隆颗粒剂成套连续化生产装置--料仓 | E19: 200L | F19: 肥东制剂分厂 | G19: 江阴市昌盛药化机械 | H19: 台 | I19: 1 | J19: 2017-10-12 | K19: 2017-10-12 | P19: 2136.75 | Q19: 2051.28 | R19: 85.47 | S19: 85.47 | AL19: =VLOOKUP(B19,固台账20260430!$E$9:$BG$4600,2,FALSE) -> 固定资产.机器设备 | AM19: =VLOOKUP(B19,固台账20260430!$E$9:$BG$4600,1,FALSE) -> 031900044 | AN19: =VLOOKUP(B19,固台账20260430!$E$9:$BG$4600,3,FALSE) -> 01042601230000062969 | AO19: =VLOOKUP(B19,固台账20260430!$E$9:$BG$4600,4,FALSE) -> 苯磺隆颗粒剂成装置--料仓 | AP19: =VLOOKUP(B19,固台账20260430!$E$9:$BG$4600,5,FALSE) -> 200L | AQ19: =VLOOKUP(B19,固台账20260430!$E$9:$BG$4600,16,FALSE) -> 2017-10-12 | AR19: =VLOOKUP(B19,固台账20260430!$E$9:$BG$4600,44,FALSE) -> 2136.75 | AS19: =VLOOKUP(B19,固台账20260430!$E$9:$BG$4600,45,FALSE) -> 85.47 | AT19: =VLOOKUP(B19,固台账20260430!$E$9:$BG$4600,49,FALSE) -> 0 | AU19: =VLOOKUP(B19,固台账20260430!$E$9:$BG$4600,50,FALSE) -> 2051.28 | AV19: =VLOOKUP(B19,固台账20260430!$E$9:$BG$4600,51,FALSE) -> 85.47 | AW19: =VLOOKUP(B19,固台账20260430!$E$9:$BG$4600,52,FALSE) -> 85.47 | AX19: =VLOOKUP(B19,固台账20260430!$E$9:$BG$4600,53,FALSE) -> 85.47 | AY19: =VLOOKUP(B19,固台账20260430!$E$9:$BG$4600,54,FALSE) -> 0 | AZ19: =VLOOKUP(B19,固台账20260430!$E$9:$BG$4600,20,FALSE) -> 制剂分厂 | BA19: =VLOOKUP(B19,固台账20260430!$E$9:$BG$4600,15,FALSE) -> 江阴市昌盛药化机械有限公司
A20: 16 | B20: 031900050 | C20: 01042601230000063051 | D20: 苯磺隆颗粒剂成套连续化生产装置--旋转造粒机 | E20: XZL-300 | F20: 肥东制剂分厂 | G20: 江阴市昌盛药化机械 | H20: 台 | I20: 1 | J20: 2017-10-12 | K20: 2017-10-12 | P20: 38461.54 | Q20: 36923.08 | R20: 1538.46 | S20: 1538.46 | AL20: =VLOOKUP(B20,固台账20260430!$E$9:$BG$4600,2,FALSE) -> 固定资产.机器设备 | AM20: =VLOOKUP(B20,固台账20260430!$E$9:$BG$4600,1,FALSE) -> 031900050 | AN20: =VLOOKUP(B20,固台账20260430!$E$9:$BG$4600,3,FALSE) -> 01042601230000063051 | AO20: =VLOOKUP(B20,固台账20260430!$E$9:$BG$4600,4,FALSE) -> 苯磺隆颗粒剂成装置--旋转造粒机 | AP20: =VLOOKUP(B20,固台账20260430!$E$9:$BG$4600,5,FALSE) -> XZL-300 | AQ20: =VLOOKUP(B20,固台账20260430!$E$9:$BG$4600,16,FALSE) -> 2017-10-12 | AR20: =VLOOKUP(B20,固台账20260430!$E$9:$BG$4600,44,FALSE) -> 38461.54 | AS20: =VLOOKUP(B20,固台账20260430!$E$9:$BG$4600,45,FALSE) -> 1538.46 | AT20: =VLOOKUP(B20,固台账20260430!$E$9:$BG$4600,49,FALSE) -> 0 | AU20: =VLOOKUP(B20,固台账20260430!$E$9:$BG$4600,50,FALSE) -> 36923.08 | AV20: =VLOOKUP(B20,固台账20260430!$E$9:$BG$4600,51,FALSE) -> 1538.46 | AW20: =VLOOKUP(B20,固台账20260430!$E$9:$BG$4600,52,FALSE) -> 1538.46 | AX20: =VLOOKUP(B20,固台账20260430!$E$9:$BG$4600,53,FALSE) -> 1538.46 | AY20: =VLOOKUP(B20,固台账20260430!$E$9:$BG$4600,54,FALSE) -> 0 | AZ20: =VLOOKUP(B20,固台账20260430!$E$9:$BG$4600,20,FALSE) -> 制剂分厂 | BA20: =VLOOKUP(B20,固台账20260430!$E$9:$BG$4600,15,FALSE) -> 江阴市昌盛药化机械有限公司
A21: 17 | B21: 031900051 | C21: 01042601230000063056 | D21: 苯磺隆颗粒剂成套连续化生产装置--旋转造粒机 | E21: XZL-300 | F21: 肥东制剂分厂 | G21: 江阴市昌盛药化机械 | H21: 台 | I21: 1 | J21: 2017-10-12 | K21: 2017-10-12 | P21: 38461.54 | Q21: 36923.08 | R21: 1538.46 | S21: 1538.46 | AL21: =VLOOKUP(B21,固台账20260430!$E$9:$BG$4600,2,FALSE) -> 固定资产.机器设备 | AM21: =VLOOKUP(B21,固台账20260430!$E$9:$BG$4600,1,FALSE) -> 031900051 | AN21: =VLOOKUP(B21,固台账20260430!$E$9:$BG$4600,3,FALSE) -> 01042601230000063056 | AO21: =VLOOKUP(B21,固台账20260430!$E$9:$BG$4600,4,FALSE) -> 苯磺隆颗粒剂成装置--旋转造料机 | AP21: =VLOOKUP(B21,固台账20260430!$E$9:$BG$4600,5,FALSE) -> XZL-300 | AQ21: =VLOOKUP(B21,固台账20260430!$E$9:$BG$4600,16,FALSE) -> 2017-10-12 | AR21: =VLOOKUP(B21,固台账20260430!$E$9:$BG$4600,44,FALSE) -> 38461.54 | AS21: =VLOOKUP(B21,固台账20260430!$E$9:$BG$4600,45,FALSE) -> 1538.46 | AT21: =VLOOKUP(B21,固台账20260430!$E$9:$BG$4600,49,FALSE) -> 0 | AU21: =VLOOKUP(B21,固台账20260430!$E$9:$BG$4600,50,FALSE) -> 36923.08 | AV21: =VLOOKUP(B21,固台账20260430!$E$9:$BG$4600,51,FALSE) -> 1538.46 | AW21: =VLOOKUP(B21,固台账20260430!$E$9:$BG$4600,52,FALSE) -> 1538.46 | AX21: =VLOOKUP(B21,固台账20260430!$E$9:$BG$4600,53,FALSE) -> 1538.46 | AY21: =VLOOKUP(B21,固台账20260430!$E$9:$BG$4600,54,FALSE) -> 0 | AZ21: =VLOOKUP(B21,固台账20260430!$E$9:$BG$4600,20,FALSE) -> 制剂分厂 | BA21: =VLOOKUP(B21,固台账20260430!$E$9:$BG$4600,15,FALSE) -> 江阴市昌盛药化机械有限公司
A22: 18 | B22: 031022746 | C22: 01042601230000061857 | D22: 活性碳箱 | E22: 处理风量10000 | F22: 肥东制剂分厂 | G22: 合肥佳丰风机有限公司 | H22: 台 | I22: 1 | J22: 2019-08-27 | K22: 2019-08-27 | P22: 10815.93 | Q22: 8561.71 | R22: 2254.22 | S22: 2254.22 | Y22: 锈蚀损坏 | AL22: =VLOOKUP(B22,固台账20260430!$E$9:$BG$4600,2,FALSE) -> 固定资产.机器设备 | AM22: =VLOOKUP(B22,固台账20260430!$E$9:$BG$4600,1,FALSE) -> 031022746 | AN22: =VLOOKUP(B22,固台账20260430!$E$9:$BG$4600,3,FALSE) -> 01042601230000061857 | AO22: =VLOOKUP(B22,固台账20260430!$E$9:$BG$4600,4,FALSE) -> 活性碳箱 | AP22: =VLOOKUP(B22,固台账20260430!$E$9:$BG$4600,5,FALSE) -> 处理风量10000 | AQ22: =VLOOKUP(B22,固台账20260430!$E$9:$BG$4600,16,FALSE) -> 2019-08-27 | AR22: =VLOOKUP(B22,固台账20260430!$E$9:$BG$4600,44,FALSE) -> 10815.93 | AS22: =VLOOKUP(B22,固台账20260430!$E$9:$BG$4600,45,FALSE) -> 432.64 | AT22: =VLOOKUP(B22,固台账20260430!$E$9:$BG$4600,49,FALSE) -> 341.55 | AU22: =VLOOKUP(B22,固台账20260430!$E$9:$BG$4600,50,FALSE) -> 8561.71 | AV22: =VLOOKUP(B22,固台账20260430!$E$9:$BG$4600,51,FALSE) -> 2254.22 | AW22: =VLOOKUP(B22,固台账20260430!$E$9:$BG$4600,52,FALSE) -> 2254.22 | AX22: =VLOOKUP(B22,固台账20260430!$E$9:$BG$4600,53,FALSE) -> 2254.22 | AY22: =VLOOKUP(B22,固台账20260430!$E$9:$BG$4600,54,FALSE) -> 0 | AZ22: =VLOOKUP(B22,固台账20260430!$E$9:$BG$4600,20,FALSE) -> 制剂分厂 | BA22: =VLOOKUP(B22,固台账20260430!$E$9:$BG$4600,15,FALSE) -> 合肥佳丰风机有限公司
A23: 19 | B23: 031022782 | C23: 01042601230000062849 | D23: 活性碳箱 | E23: 风量2000M3/H | F23: 肥东制剂分厂 | G23: 合肥佳丰风机公司 | H23: 台 | I23: 1 | J23: 2019-11-29 | K23: 2019-11-29 | P23: 10796.46 | Q23: 8219.75 | R23: 2576.71 | S23: 2576.71 | Y23: 锈蚀损坏 | AL23: =VLOOKUP(B23,固台账20260430!$E$9:$BG$4600,2,FALSE) -> 固定资产.机器设备 | AM23: =VLOOKUP(B23,固台账20260430!$E$9:$BG$4600,1,FALSE) -> 031022782 | AN23: =VLOOKUP(B23,固台账20260430!$E$9:$BG$4600,3,FALSE) -> 01042601230000062849 | AO23: =VLOOKUP(B23,固台账20260430!$E$9:$BG$4600,4,FALSE) -> 活性碳箱 | AP23: =VLOOKUP(B23,固台账20260430!$E$9:$BG$4600,5,FALSE) -> 风量2000M3/H | AQ23: =VLOOKUP(B23,固台账20260430!$E$9:$BG$4600,16,FALSE) -> 2019-11-29 | AR23: =VLOOKUP(B23,固台账20260430!$E$9:$BG$4600,44,FALSE) -> 10796.46 | AS23: =VLOOKUP(B23,固台账20260430!$E$9:$BG$4600,45,FALSE) -> 431.86 | AT23: =VLOOKUP(B23,固台账20260430!$E$9:$BG$4600,49,FALSE) -> 338.67 | AU23: =VLOOKUP(B23,固台账20260430!$E$9:$BG$4600,50,FALSE) -> 8219.75 | AV23: =VLOOKUP(B23,固台账20260430!$E$9:$BG$4600,51,FALSE) -> 2576.71 | AW23: =VLOOKUP(B23,固台账20260430!$E$9:$BG$4600,52,FALSE) -> 2576.71 | AX23: =VLOOKUP(B23,固台账20260430!$E$9:$BG$4600,53,FALSE) -> 2576.71 | AY23: =VLOOKUP(B23,固台账20260430!$E$9:$BG$4600,54,FALSE) -> 0 | AZ23: =VLOOKUP(B23,固台账20260430!$E$9:$BG$4600,20,FALSE) -> 制剂分厂 | BA23: =VLOOKUP(B23,固台账20260430!$E$9:$BG$4600,15,FALSE) -> 合肥佳丰风机有限公司
A24: 20 | B24: 031022855 | C24: 01042601230000064422 | D24: 蒸汽发生器 | E24: 24KW | F24: 肥东制剂分厂 | G24: 上海庞泊包装科技 | H24: 台 | I24: 1 | J24: 2020-06-19 | K24: 2020-06-19 | P24: 6017.7 | Q24: 4158.62 | R24: 1859.08 | S24: 1859.08 | Y24: 锈蚀损坏 | AL24: =VLOOKUP(B24,固台账20260430!$E$9:$BG$4600,2,FALSE) -> 固定资产.机器设备 | AM24: =VLOOKUP(B24,固台账20260430!$E$9:$BG$4600,1,FALSE) -> 031022855 | AN24: =VLOOKUP(B24,固台账20260430!$E$9:$BG$4600,3,FALSE) -> 01042601230000064422 | AO24: =VLOOKUP(B24,固台账20260430!$E$9:$BG$4600,4,FALSE) -> 蒸汽发生器 | AP24: =VLOOKUP(B24,固台账20260430!$E$9:$BG$4600,5,FALSE) -> 24KW | AQ24: =VLOOKUP(B24,固台账20260430!$E$9:$BG$4600,16,FALSE) -> 2020-06-19 | AR24: =VLOOKUP(B24,固台账20260430!$E$9:$BG$4600,44,FALSE) -> 6017.7 | AS24: =VLOOKUP(B24,固台账20260430!$E$9:$BG$4600,45,FALSE) -> 240.71 | AT24: =VLOOKUP(B24,固台账20260430!$E$9:$BG$4600,49,FALSE) -> 186.74 | AU24: =VLOOKUP(B24,固台账20260430!$E$9:$BG$4600,50,FALSE) -> 4158.62 | AV24: =VLOOKUP(B24,固台账20260430!$E$9:$BG$4600,51,FALSE) -> 1859.08 | AW24: =VLOOKUP(B24,固台账20260430!$E$9:$BG$4600,52,FALSE) -> 1859.08 | AX24: =VLOOKUP(B24,固台账20260430!$E$9:$BG$4600,53,FALSE) -> 1859.08 | AY24: =VLOOKUP(B24,固台账20260430!$E$9:$BG$4600,54,FALSE) -> 0 | AZ24: =VLOOKUP(B24,固台账20260430!$E$9:$BG$4600,20,FALSE) -> 制剂分厂 | BA24: =VLOOKUP(B24,固台账20260430!$E$9:$BG$4600,15,FALSE) -> 上海庞泊包装科技有限公司
A25: 21 | B25: 031900070 | C25: 01042601230000063879 | D25: 草甘膦颗粒剂成套连续化生产装置--挤压造料机 | E25: SET-140 | F25: 肥东制剂分厂 | G25: 江阴市昌盛药化机械公 | H25: 台 | I25: 1 | J25: 2018-01-31 | K25: 2018-01-31 | P25: 73076.92 | Q25: 70153.84 | R25: 2923.08 | S25: 2923.08 | Y25: 物料腐蚀磨损 | AL25: =VLOOKUP(B25,固台账20260430!$E$9:$BG$4600,2,FALSE) -> 固定资产.机器设备 | AM25: =VLOOKUP(B25,固台账20260430!$E$9:$BG$4600,1,FALSE) -> 031900070 | AN25: =VLOOKUP(B25,固台账20260430!$E$9:$BG$4600,3,FALSE) -> 01042601230000063879 | AO25: =VLOOKUP(B25,固台账20260430!$E$9:$BG$4600,4,FALSE) -> 草甘膦颗粒剂成套装置--挤压造料机 | AP25: =VLOOKUP(B25,固台账20260430!$E$9:$BG$4600,5,FALSE) -> SET-140 | AQ25: =VLOOKUP(B25,固台账20260430!$E$9:$BG$4600,16,FALSE) -> 2018-01-31 | AR25: =VLOOKUP(B25,固台账20260430!$E$9:$BG$4600,44,FALSE) -> 73076.92 | AS25: =VLOOKUP(B25,固台账20260430!$E$9:$BG$4600,45,FALSE) -> 2923.08 | AT25: =VLOOKUP(B25,固台账20260430!$E$9:$BG$4600,49,FALSE) -> 0 | AU25: =VLOOKUP(B25,固台账20260430!$E$9:$BG$4600,50,FALSE) -> 70153.84 | AV25: =VLOOKUP(B25,固台账20260430!$E$9:$BG$4600,51,FALSE) -> 2923.08 | AW25: =VLOOKUP(B25,固台账20260430!$E$9:$BG$4600,52,FALSE) -> 2923.08 | AX25: =VLOOKUP(B25,固台账20260430!$E$9:$BG$4600,53,FALSE) -> 2923.08 | AY25: =VLOOKUP(B25,固台账20260430!$E$9:$BG$4600,54,FALSE) -> 0 | AZ25: =VLOOKUP(B25,固台账20260430!$E$9:$BG$4600,20,FALSE) -> 制剂分厂 | BA25: =VLOOKUP(B25,固台账20260430!$E$9:$BG$4600,15,FALSE) -> 江阴市昌盛药化机械有限公司
A26: 22 | B26: 030800022 | C26: 01042601230000061413 | D26: 氟塑料离心泵 | E26: 50FSB-25 | F26: 肥东合成分厂 | G26: 安徽卧龙 | H26: 台 | I26: 1 | J26: 2007-12-30 | K26: 2007-12-30 | P26: 3564.1 | Q26: 2566.08 | R26: 998.02 | S26: 998.02 | AL26: =VLOOKUP(B26,固台账20260430!$E$9:$BG$4600,2,FALSE) -> 固定资产.机器设备 | AM26: =VLOOKUP(B26,固台账20260430!$E$9:$BG$4600,1,FALSE) -> 030800022 | AN26: =VLOOKUP(B26,固台账20260430!$E$9:$BG$4600,3,FALSE) -> 01042601230000061413 | AO26: =VLOOKUP(B26,固台账20260430!$E$9:$BG$4600,4,FALSE) -> 氟塑料离心泵 | AP26: =VLOOKUP(B26,固台账20260430!$E$9:$BG$4600,5,FALSE) -> 50FSB-25 | AQ26: =VLOOKUP(B26,固台账20260430!$E$9:$BG$4600,16,FALSE) -> 2007-12-30 | AR26: =VLOOKUP(B26,固台账20260430!$E$9:$BG$4600,44,FALSE) -> 3564.1 | AS26: =VLOOKUP(B26,固台账20260430!$E$9:$BG$4600,45,FALSE) -> 0 | AT26: =VLOOKUP(B26,固台账20260430!$E$9:$BG$4600,49,FALSE) -> 0 | AU26: =VLOOKUP(B26,固台账20260430!$E$9:$BG$4600,50,FALSE) -> 2566.08 | AV26: =VLOOKUP(B26,固台账20260430!$E$9:$BG$4600,51,FALSE) -> - | AW26: =VLOOKUP(B26,固台账20260430!$E$9:$BG$4600,52,FALSE) -> 998.02 | AX26: =VLOOKUP(B26,固台账20260430!$E$9:$BG$4600,53,FALSE) -> 998.02 | AY26: =VLOOKUP(B26,固台账20260430!$E$9:$BG$4600,54,FALSE) -> 0 | AZ26: =VLOOKUP(B26,固台账20260430!$E$9:$BG$4600,20,FALSE) -> 合成分厂 | BA26: =VLOOKUP(B26,固台账20260430!$E$9:$BG$4600,15,FALSE) -> 待梳理事项
A27: 23 | B27: 030800298 | C27: 01042601230000064731 | D27: 液氯汽化器 | E27: F=2.5㎡ | F27: 肥东合成分厂 | G27: 江苏新世纪民生化工设备有限公司 | H27: 台 | I27: 1 | J27: 2020-10-27 | K27: 2020-10-27 | P27: 10344.83 | Q27: 6733.64 | R27: 3611.19 | S27: 3611.19 | Y27: 腐蚀损坏 | AL27: =VLOOKUP(B27,固台账20260430!$E$9:$BG$4600,2,FALSE) -> 固定资产.机器设备 | AM27: =VLOOKUP(B27,固台账20260430!$E$9:$BG$4600,1,FALSE) -> 030800298 | AN27: =VLOOKUP(B27,固台账20260430!$E$9:$BG$4600,3,FALSE) -> 01042601230000064731 | AO27: =VLOOKUP(B27,固台账20260430!$E$9:$BG$4600,4,FALSE) -> 液氯汽化器 | AP27: =VLOOKUP(B27,固台账20260430!$E$9:$BG$4600,5,FALSE) -> F=2.5㎡ | AQ27: =VLOOKUP(B27,固台账20260430!$E$9:$BG$4600,16,FALSE) -> 2020-10-27 | AR27: =VLOOKUP(B27,固台账20260430!$E$9:$BG$4600,44,FALSE) -> 10344.83 | AS27: =VLOOKUP(B27,固台账20260430!$E$9:$BG$4600,45,FALSE) -> 413.79 | AT27: =VLOOKUP(B27,固台账20260430!$E$9:$BG$4600,49,FALSE) -> 319.74 | AU27: =VLOOKUP(B27,固台账20260430!$E$9:$BG$4600,50,FALSE) -> 6733.64 | AV27: =VLOOKUP(B27,固台账20260430!$E$9:$BG$4600,51,FALSE) -> 3611.19 | AW27: =VLOOKUP(B27,固台账20260430!$E$9:$BG$4600,52,FALSE) -> 3611.19 | AX27: =VLOOKUP(B27,固台账20260430!$E$9:$BG$4600,53,FALSE) -> 3611.19 | AY27: =VLOOKUP(B27,固台账20260430!$E$9:$BG$4600,54,FALSE) -> 0 | AZ27: =VLOOKUP(B27,固台账20260430!$E$9:$BG$4600,20,FALSE) -> 合成分厂 | BA27: =VLOOKUP(B27,固台账20260430!$E$9:$BG$4600,15,FALSE) -> 江苏新世纪民生化工设备有限公司
A28: 24 | B28: 032500336 | C28: 01042601230000062134 | D28: 玻璃钢风机 | E28: FRP472-5A、5000m3/h | F28: 肥东合成分厂 | G28: 宜兴市昌明玻璃钢厂 | H28: 台 | I28: 1 | J28: 2023-04-24 | K28: 2023-04-24 | P28: 7964.6 | Q28: 2787.72 | R28: 5176.88 | S28: 5176.88 | Y28: 酸碱腐蚀损坏 | AL28: =VLOOKUP(B28,固台账20260430!$E$9:$BG$4600,2,FALSE) -> 固定资产.机器设备 | AM28: =VLOOKUP(B28,固台账20260430!$E$9:$BG$4600,1,FALSE) -> 032500336 | AN28: =VLOOKUP(B28,固台账20260430!$E$9:$BG$4600,3,FALSE) -> 01042601230000062134 | AO28: =VLOOKUP(B28,固台账20260430!$E$9:$BG$4600,4,FALSE) -> 玻璃钢风机 | AP28: =VLOOKUP(B28,固台账20260430!$E$9:$BG$4600,5,FALSE) -> FRP472-5A-7.5KW，右旋90度，防爆电机 | AQ28: =VLOOKUP(B28,固台账20260430!$E$9:$BG$4600,16,FALSE) -> 2023-04-24 | AR28: =VLOOKUP(B28,固台账20260430!$E$9:$BG$4600,44,FALSE) -> 7964.6 | AS28: =VLOOKUP(B28,固台账20260430!$E$9:$BG$4600,45,FALSE) -> 318.58 | AT28: =VLOOKUP(B28,固台账20260430!$E$9:$BG$4600,49,FALSE) -> 238.92 | AU28: =VLOOKUP(B28,固台账20260430!$E$9:$BG$4600,50,FALSE) -> 2787.72 | AV28: =VLOOKUP(B28,固台账20260430!$E$9:$BG$4600,51,FALSE) -> 5176.88 | AW28: =VLOOKUP(B28,固台账20260430!$E$9:$BG$4600,52,FALSE) -> 5176.88 | AX28: =VLOOKUP(B28,固台账20260430!$E$9:$BG$4600,53,FALSE) -> 5176.88 | AY28: =VLOOKUP(B28,固台账20260430!$E$9:$BG$4600,54,FALSE) -> 0 | AZ28: =VLOOKUP(B28,固台账20260430!$E$9:$BG$4600,20,FALSE) -> 合成分厂 | BA28: =VLOOKUP(B28,固台账20260430!$E$9:$BG$4600,15,FALSE) -> 宜兴市昌明玻璃钢厂
A29: 25 | B29: 032500316 | C29: 01042601230000061683 | D29: 玻璃钢风机 | E29: FRP472-5A、5000m3/h | F29: 肥东合成分厂 | G29: 宜兴市昌明玻璃钢厂 | H29: 台 | I29: 1 | J29: 2022-05-09 | K29: 2022-05-09 | P29: 8407.08 | Q29: 3867.22 | R29: 4539.86 | S29: 4539.86 | Y29: 酸碱腐蚀损坏 | AL29: =VLOOKUP(B29,固台账20260430!$E$9:$BG$4600,2,FALSE) -> 固定资产.机器设备 | AM29: =VLOOKUP(B29,固台账20260430!$E$9:$BG$4600,1,FALSE) -> 032500316 | AN29: =VLOOKUP(B29,固台账20260430!$E$9:$BG$4600,3,FALSE) -> 01042601230000061683 | AO29: =VLOOKUP(B29,固台账20260430!$E$9:$BG$4600,4,FALSE) -> 玻璃钢风机 | AP29: =VLOOKUP(B29,固台账20260430!$E$9:$BG$4600,5,FALSE) -> F472-5A-11KW，防爆电机，右旋90度 | AQ29: =VLOOKUP(B29,固台账20260430!$E$9:$BG$4600,16,FALSE) -> 2022-05-09 | AR29: =VLOOKUP(B29,固台账20260430!$E$9:$BG$4600,44,FALSE) -> 8407.08 | AS29: =VLOOKUP(B29,固台账20260430!$E$9:$BG$4600,45,FALSE) -> 336.28 | AT29: =VLOOKUP(B29,固台账20260430!$E$9:$BG$4600,49,FALSE) -> 252.21 | AU29: =VLOOKUP(B29,固台账20260430!$E$9:$BG$4600,50,FALSE) -> 3867.22 | AV29: =VLOOKUP(B29,固台账20260430!$E$9:$BG$4600,51,FALSE) -> 4539.86 | AW29: =VLOOKUP(B29,固台账20260430!$E$9:$BG$4600,52,FALSE) -> 4539.86 | AX29: =VLOOKUP(B29,固台账20260430!$E$9:$BG$4600,53,FALSE) -> 4539.86 | AY29: =VLOOKUP(B29,固台账20260430!$E$9:$BG$4600,54,FALSE) -> 0 | AZ29: =VLOOKUP(B29,固台账20260430!$E$9:$BG$4600,20,FALSE) -> 合成分厂 | BA29: =VLOOKUP(B29,固台账20260430!$E$9:$BG$4600,15,FALSE) -> 宜兴市昌明玻璃钢厂
A30: 26 | B30: 032400069 | C30: 01042601230000062310 | D30: 活性炭吸附箱 | E30: 5000m3/h | F30: 肥东合成分厂 | G30: 合肥展英环境科技有限公司 | H30: 台 | I30: 1 | J30: 2023-10-18 | K30: 2023-10-18 | P30: 12035.4 | Q30: 3490.18 | R30: 8545.22 | S30: 8545.22 | Y30: 腐蚀损坏 | AL30: =VLOOKUP(B30,固台账20260430!$E$9:$BG$4600,2,FALSE) -> 固定资产.机器设备 | AM30: =VLOOKUP(B30,固台账20260430!$E$9:$BG$4600,1,FALSE) -> 032400069 | AN30: =VLOOKUP(B30,固台账20260430!$E$9:$BG$4600,3,FALSE) -> 01042601230000062310 | AO30: =VLOOKUP(B30,固台账20260430!$E$9:$BG$4600,4,FALSE) -> 活性炭吸附箱 | AP30: =VLOOKUP(B30,固台账20260430!$E$9:$BG$4600,5,FALSE) -> 5000风量，箱体板厚3MM，DN600 | AQ30: =VLOOKUP(B30,固台账20260430!$E$9:$BG$4600,16,FALSE) -> 2023-10-18 | AR30: =VLOOKUP(B30,固台账20260430!$E$9:$BG$4600,44,FALSE) -> 12035.4 | AS30: =VLOOKUP(B30,固台账20260430!$E$9:$BG$4600,45,FALSE) -> 481.42 | AT30: =VLOOKUP(B30,固台账20260430!$E$9:$BG$4600,49,FALSE) -> 361.08 | AU30: =VLOOKUP(B30,固台账20260430!$E$9:$BG$4600,50,FALSE) -> 3490.18 | AV30: =VLOOKUP(B30,固台账20260430!$E$9:$BG$4600,51,FALSE) -> 8545.22 | AW30: =VLOOKUP(B30,固台账20260430!$E$9:$BG$4600,52,FALSE) -> 8545.22 | AX30: =VLOOKUP(B30,固台账20260430!$E$9:$BG$4600,53,FALSE) -> 8545.22 | AY30: =VLOOKUP(B30,固台账20260430!$E$9:$BG$4600,54,FALSE) -> 0 | AZ30: =VLOOKUP(B30,固台账20260430!$E$9:$BG$4600,20,FALSE) -> 合成分厂 | BA30: =VLOOKUP(B30,固台账20260430!$E$9:$BG$4600,15,FALSE) -> 合肥展英环境科技有限公司
A31: 27 | B31: 030200146 | C31: 01042601230000061298 | D31: 玻璃钢风机 | E31: BF4-72-3.6A、3120-6070m3/h、1627-980Pa、 | F31: 肥东合成分厂 | G31: 浙江天宏风机公司 | H31: 台 | I31: 1 | J31: 2019-02-28 | K31: 2019-02-28 | P31: 4741.38 | Q31: 4040.87 | R31: 700.51 | S31: 700.51 | Y31: 酸碱腐蚀损坏 | AL31: =VLOOKUP(B31,固台账20260430!$E$9:$BG$4600,2,FALSE) -> 固定资产.机器设备 | AM31: =VLOOKUP(B31,固台账20260430!$E$9:$BG$4600,1,FALSE) -> 030200146 | AN31: =VLOOKUP(B31,固台账20260430!$E$9:$BG$4600,3,FALSE) -> 01042601230000061298 | AO31: =VLOOKUP(B31,固台账20260430!$E$9:$BG$4600,4,FALSE) -> 玻璃钢风机 | AP31: =VLOOKUP(B31,固台账20260430!$E$9:$BG$4600,5,FALSE) -> BF-72-3.6A | AQ31: =VLOOKUP(B31,固台账20260430!$E$9:$BG$4600,16,FALSE) -> 2019-02-28 | AR31: =VLOOKUP(B31,固台账20260430!$E$9:$BG$4600,44,FALSE) -> 4741.38 | AS31: =VLOOKUP(B31,固台账20260430!$E$9:$BG$4600,45,FALSE) -> 189.66 | AT31: =VLOOKUP(B31,固台账20260430!$E$9:$BG$4600,49,FALSE) -> 153.25 | AU31: =VLOOKUP(B31,固台账20260430!$E$9:$BG$4600,50,FALSE) -> 4040.87 | AV31: =VLOOKUP(B31,固台账20260430!$E$9:$BG$4600,51,FALSE) -> 700.51 | AW31: =VLOOKUP(B31,固台账20260430!$E$9:$BG$4600,52,FALSE) -> 700.51 | AX31: =VLOOKUP(B31,固台账20260430!$E$9:$BG$4600,53,FALSE) -> 700.51 | AY31: =VLOOKUP(B31,固台账20260430!$E$9:$BG$4600,54,FALSE) -> 0 | AZ31: =VLOOKUP(B31,固台账20260430!$E$9:$BG$4600,20,FALSE) -> 合成分厂 | BA31: =VLOOKUP(B31,固台账20260430!$E$9:$BG$4600,15,FALSE) -> 绍兴天宏风机有限公司
A32: 28 | B32: 030800354 | C32: 01042601230000064844 | D32: 玻璃钢风机 | E32: HT-5A-A、3000Pa、2000m3/h | F32: 肥东合成分厂 | G32: 宜兴市昌明玻璃钢厂 | H32: 台 | I32: 1 | J32: 2021-02-08 | K32: 2021-02-08 | P32: 7964.6 | Q32: 3098.12 | R32: 4866.48 | S32: 4866.48 | Y32: 酸碱腐蚀损坏 | AL32: =VLOOKUP(B32,固台账20260430!$E$9:$BG$4600,2,FALSE) -> 固定资产.机器设备 | AM32: =VLOOKUP(B32,固台账20260430!$E$9:$BG$4600,1,FALSE) -> 030800354 | AN32: =VLOOKUP(B32,固台账20260430!$E$9:$BG$4600,3,FALSE) -> 01042601230000064844 | AO32: =VLOOKUP(B32,固台账20260430!$E$9:$BG$4600,4,FALSE) -> 玻璃钢风机 | AP32: =VLOOKUP(B32,固台账20260430!$E$9:$BG$4600,5,FALSE) -> HT-5A-7.5KW，防爆电机 | AQ32: =VLOOKUP(B32,固台账20260430!$E$9:$BG$4600,16,FALSE) -> 2021-02-08 | AR32: =VLOOKUP(B32,固台账20260430!$E$9:$BG$4600,44,FALSE) -> 7964.6 | AS32: =VLOOKUP(B32,固台账20260430!$E$9:$BG$4600,45,FALSE) -> 318.58 | AT32: =VLOOKUP(B32,固台账20260430!$E$9:$BG$4600,49,FALSE) -> 0 | AU32: =VLOOKUP(B32,固台账20260430!$E$9:$BG$4600,50,FALSE) -> 3098.12 | AV32: =VLOOKUP(B32,固台账20260430!$E$9:$BG$4600,51,FALSE) -> 318.58 | AW32: =VLOOKUP(B32,固台账20260430!$E$9:$BG$4600,52,FALSE) -> 4866.48 | AX32: =VLOOKUP(B32,固台账20260430!$E$9:$BG$4600,53,FALSE) -> 4866.48 | AY32: =VLOOKUP(B32,固台账20260430!$E$9:$BG$4600,54,FALSE) -> 0 | AZ32: =VLOOKUP(B32,固台账20260430!$E$9:$BG$4600,20,FALSE) -> 合成分厂 | BA32: =VLOOKUP(B32,固台账20260430!$E$9:$BG$4600,15,FALSE) -> 宜兴市昌明玻璃钢厂
A34: 小 计 | L34: =ROUND(SUM(L5:L33),2) -> 0 | M34: =ROUND(SUM(M5:M33),2) -> 0 | N34: =ROUND(SUM(N5:N33),2) -> 0 | O34: =ROUND(SUM(O5:O33),2) -> 0 | P34: =SUM(P5:P33) -> 757905.82 | Q34: =SUM(Q5:Q33) -> 694636.53 | R34: =SUM(R5:R33) -> 63269.29 | S34: =SUM(S5:S33) -> 63269.29 | U34: =ROUND(SUM(U5:U33),2) -> 0 | W34: =ROUND(SUM(W5:W33),2) -> 0 | X34: =IF((W34-#REF!)=0,0,IF((W34-#REF!)=W34,100,IF(#REF!<0,-(W34-#REF!)/#REF!*100,IF((W34-#REF!)>0,ABS((W34-#REF!)/#REF!*100),(W34-#REF!)/#REF!*100)))) -> #REF!
A35: 减：机器设备减值准备 | R35: =S34 -> 63269.29 | W35: =ROUND(U35*V35/100,2) -> 0 | X35: =IF((W35-#REF!)=0,0,IF((W35-#REF!)=W35,100,IF(#REF!<0,-(W35-#REF!)/#REF!*100,IF((W35-#REF!)>0,ABS((W35-#REF!)/#REF!*100),(W35-#REF!)/#REF!*100)))) -> #REF!
A36: 合 计 | L36: =L34-L35 -> 0 | M36: =M34-M35 -> 0 | N36: =N34-N35 -> 0 | O36: =O34-O35 -> 0 | P36: =P34-P35 -> 757905.82 | R36: =R34-R35 -> 0 | U36: =U34-U35 -> 0 | W36: =W34-W35 -> 0 | X36: =IF((W36-#REF!)=0,0,IF((W36-#REF!)=W36,100,IF(#REF!<0,-(W36-#REF!)/#REF!*100,IF((W36-#REF!)>0,ABS((W36-#REF!)/#REF!*100),(W36-#REF!)/#REF!*100)))) -> #REF!
B37: 备注：农化20260430账面上固定资产减值准备余额1339800.09元（其中“固定资产减值准备-机器设备”账面余额505332.51元）
D38: 经办人签字： | J38: 财务部签字： | X38: 资产管理负责人签字：

Sheet 固台账20260430
A1: 会计主体 | B1: 安徽丰乐农化有限责任公司
A2: 本位币 | B2: 本币
A3: 账簿 | B3: 安徽丰乐农化有限责任公司-国投集团基准账簿
A4: 会计期间 | B4: 2026-04
A5: 固定资产类别级次 | B5: 1 至 10
A6: 固定资产类别 | B6: 固定资产.办公设备.电脑设备,固定资产.办公设备.办公家具,固定资产.办公设备.办公设备*,固定资产.办公设备.其他,固定资产.运输工具,固定资产.房屋建筑物,固定资产.机器设备,固定资产.其他
A7: 是否展示分配信息 | B7: 否 | E7: 1 | F7: 2 | G7: 3 | H7: 4 | I7: 5 | J7: 6 | K7: 7 | L7: 8 | M7: 9 | N7: 10 | O7: 11 | P7: 12 | Q7: 13 | R7: 14 | S7: 15 | T7: 16 | U7: 17 | V7: 18 | W7: 19 | X7: 20 | Y7: 21 | Z7: 22 | AA7: 23 | AB7: 24 | AC7: 25 | AD7: 26 | AE7: 27 | AF7: 28 | AG7: 29 | AH7: 30 | AI7: 31 | AJ7: 32 | AK7: 33 | AL7: 34 | AM7: 35 | AN7: 36 | AO7: 37 | AP7: 38 | AQ7: 39 | AR7: 40 | AS7: 41 | AT7: 42 | AU7: 43 | AV7: 44 | AW7: 45 | AX7: 46 | AY7: 47 | AZ7: 48 | BA7: 49 | BB7: 50 | BC7: 51 | BD7: 52 | BE7: 53 | BF7: 54 | BG7: 55
A8: 固定资产台账 | E8: 后加 | F8: 后加
A9: 会计主体 | B9: 账簿 | C9: 固定资产类别 | D9: 固定资产类别 | E9: U8号 | F9: 固定资产类别 | G9: 固定资产编码 | H9: 固定资产名称 | I9: 规格 | J9: 型号 | K9: 标签号 | L9: 增加方式 | M9: 减少方式 | N9: 折旧方法 | O9: 税收加速折旧 | P9: 计量单位 | Q9: 位置 | R9: 存放地点 | S9: 供应商 | T9: 开始使用日期 | U9: 使用状态 | V9: 减值单元 | W9: 处置日期 | X9: 管理部门 | Y9: 管理成本中心 | Z9: 管理利润中心 | AA9: 使用人 | AB9: 处置状态 | AC9: 折旧状态 | AD9: 建卡日期 | AE9: 是否期初 | AF9: 固定资产子类别 | AG9: 使用年限 | AH9: 使用月限 | AI9: 已计提期数 | AJ9: 工作量单位 | AK9: 当期工作量 | AL9: 累计工作量 | AM9: 工作总量 | AN9: 净残值率 | AO9: 税目 | AP9: 税率 | AQ9: 原币币种 | AR9: 数量 | AS9: 本币币种 | AT9: 本币汇率类型 | AU9: 本币汇率 | AV9: 本币原值 | AW9: 本币净残值 | AX9: 本币税额 | AY9: 本币期间折旧总额 | AZ9: 本币本期计提折旧 | BA9: 本币本年折旧 | BB9: 本币累计折旧 | BC9: 本币本年减值 | BD9: 本币累计减值 | BE9: 本币账面净值 | BF9: 本币账面价值 | BG9: 本币原始成本
A10: 安徽丰乐农化有限责任公司 | B10: 安徽丰乐农化有限责任公司-国投集团基准账簿 | C10: 固定资产.其他 | D10: 固定资产.其他 | E10: 050600011 | F10: 固定资产.其他 | G10: 01992601230000061243 | H10: 车间茶水亭 | I10: 外购成品 茶水亭2*2*2.4，可移动单体 | J10: U8大类05；卡号04733；资产号050600011 | L10: 直接购入 | N10: 平均年限法(二) | O10: 否 | P10: 台 | R10: 肥东制剂调制车间入口 | S10: 合肥千宴装饰工程有限公司 | T10: 2021-09-19 | U10: 在用 | X10: 制剂分厂 | AB10: 正常 | AC10: 正常计提 | AD10: 2021-09-19 | AE10: 是 | AG10: 5 | AH10: 0 | AI10: 55 | AK10: - | AL10: - | AM10: - | AN10: 4 | AP10: - | AQ10: 人民币 | AR10: 1 | AS10: 人民币 | AT10: 基准汇率 | AU10: 1 | AV10: 6310.68 | AW10: 252.43 | AX10: - | AY10: 100.98 | AZ10: 100.98 | BA10: 403.91 | BB10: 5553.38 | BC10: - | BD10: 0 | BE10: 757.3 | BF10: 757.3 | BG10: 6310.68
D11: 固定资产.其他 | E11: 050600012 | F11: 固定资产.其他 | G11: 01992601230000061245 | H11: 车间茶水亭 | I11: 外购成品 茶水亭2*2*2.4，可移动单体 | J11: U8大类05；卡号04734；资产号050600012 | L11: 直接购入 | N11: 平均年限法(二) | O11: 否 | P11: 台 | R11: 肥东制剂调制车间入口 | S11: 合肥千宴装饰工程有限公司 | T11: 2021-09-19 | U11: 在用 | X11: 制剂分厂 | AB11: 正常 | AC11: 正常计提 | AD11: 2021-09-19 | AE11: 是 | AG11: 5 | AH11: 0 | AI11: 55 | AK11: - | AL11: - | AM11: - | AN11: 4 | AP11: - | AQ11: 人民币 | AR11: 1 | AS11: 人民币 | AT11: 基准汇率 | AU11: 1 | AV11: 6310.68 | AW11: 252.43 | AX11: - | AY11: 100.98 | AZ11: 100.98 | BA11: 403.91 | BB11: 5553.38 | BC11: - | BD11: 0 | BE11: 757.3 | BF11: 757.3 | BG11: 6310.68
D12: 固定资产.其他 | E12: 050600013 | F12: 固定资产.其他 | G12: 01992601230000061249 | H12: 车间茶水亭 | I12: 外购成品 茶水亭2*2*2.4，可移动单体 | J12: U8大类05；卡号04735；资产号050600013 | L12: 直接购入 | N12: 平均年限法(二) | O12: 否 | P12: 台 | R12: 肥东制剂调制车间入口 | S12: 合肥千宴装饰工程有限公司 | T12: 2021-09-19 | U12: 在用 | X12: 制剂分厂 | AB12: 正常 | AC12: 正常计提 | AD12: 2021-09-19 | AE12: 是 | AG12: 5 | AH12: 0 | AI12: 55 | AK12: - | AL12: - | AM12: - | AN12: 4 | AP12: - | AQ12: 人民币 | AR12: 1 | AS12: 人民币 | AT12: 基准汇率 | AU12: 1 | AV12: 6310.68 | AW12: 252.43 | AX12: - | AY12: 100.98 | AZ12: 100.98 | BA12: 403.91 | BB12: 5553.38 | BC12: - | BD12: 0 | BE12: 757.3 | BF12: 757.3 | BG12: 6310.68
D13: 固定资产.其他 | E13: 050100001 | F13: 固定资产.其他 | G13: 01992601230000061433 | H13: 门卫门前广场 | J13: U8大类05；卡号01993；资产号050100001 | L13: 在建工程转入 | N13: 平均年限法(二) | O13: 否 | P13: 台 | R13: 肥东循环园 | S13: 待梳理事项 | T13: 2016-12-29 | U13: 在用 | X13: 制剂分厂 | AB13: 正常 | AC13: 正常计提 | AD13: 2016-12-29 | AE13: 是 | AG13: 10 | AH13: 0 | AI13: 114 | AK13: - | AL13: - | AM13: - | AN13: 4 | AP13: - | AQ13: 人民币 | AR13: 1 | AS13: 人民币 | AT13: 基准汇率 | AU13: 1 | AV13: 1056628.6 | AW13: 42265.14 | AX13: - | AY13: 8395.52 | AZ13: 8395.52 | BA13: 33582.08 | BB13: 963990.32 | BC13: - | BD13: 0 | BE13: 92638.26 | BF13: 92638.26 | BG13: 1056628.6
D14: 固定资产.其他 | E14: 050200001 | F14: 固定资产.其他 | G14: 01992601230000061434 | H14: 弱电管井 | J14: U8大类05；卡号01995；资产号050200001 | L14: 在建工程转入 | N14: 平均年限法(二) | O14: 否 | P14: 台 | R14: 肥东分厂 | S14: 待梳理事项 | T14: 2016-12-29 | U14: 在用 | X14: 制剂分厂 | AB14: 正常 | AC14: 正常计提 | AD14: 2016-12-29 | AE14: 是 | AG14: 10 | AH14: 0 | AI14: 114 | AK14: - | AL14: - | AM14: - | AN14: 4 | AP14: - | AQ14: 人民币 | AR14: 1 | AS14: 人民币 | AT14: 基准汇率 | AU14: 1 | AV14: 464226.42 | AW14: 18569.06 | AX14: - | AY14: 4432.88 | AZ14: 4432.88 | BA14: 17731.54 | BB14: 419060.05 | BC14: - | BD14: 0 | BE14: 45166.37 | BF14: 45166.37 | BG14: 464226.42
D15: 固定资产.其他 | E15: 050100002 | F15: 固定资产.其他 | G15: 01992601230000061436 | H15: 白改黑道路 | J15: U8大类05；卡号01994；资产号050100002 | L15: 在建工程转入 | N15: 平均年限法(二) | O15: 否 | P15: 台 | R15: 肥东分厂循环园 | S15: 待梳理事项 | T15: 2016-12-29 | U15: 在用 | X15: 制剂分厂 | AB15: 正常 | AC15: 正常计提 | AD15: 2016-12-29 | AE15: 是 | AG15: 10 | AH15: 0 | AI15: 114 | AK15: - | AL15: - | AM15: - | AN15: 4 | AP15: - | AQ15: 人民币 | AR15: 1 | AS15: 人民币 | AT15: 基准汇率 | AU15: 1 | AV15: 938095.71 | AW15: 37523.83 | AX15: - | AY15: 9172.64 | AZ15: 9172.64 | BA15: 36690.56 | BB15: 845536.04 | BC15: - | BD15: 0 | BE15: 92559.67 | BF15: 92559.67 | BG15: 938095.71
D16: 固定资产.其他 | E16: 050400005 | F16: 固定资产.其他 | G16: 01992601230000061708 | H16: 肥东食堂天然气工程 | I16: 压力管道级别：GB1，天然气管道安装工程 | J16: U8大类05；卡号04863；资产号050400005 | L16: 直接购入 | N16: 平均年限法(二) | O16: 否 | P16: 台 | R16: 肥东厂区食堂厨房，（综合办）管理 | S16: 肥东深燃天然气有限公司 | T16: 2022-05-27 | U16: 在用 | X16: 综合办公室 | AB16: 正常 | AC16: 正常计提 | AD16: 2022-05-27 | AE16: 是 | AG16: 10 | AH16: 0 | AI16: 47 | AK16: - | AL16: - | AM16: - | AN16: 4 | AP16: - | AQ16: 人民币 | AR16: 1 | AS16: 人民币 | AT16: 基准汇率 | AU16: 1 | AV16: 135779.82 | AW16: 5431.19 | AX16: - | AY16: 1086.24 | AZ16: 1086.24 | BA16: 4344.96 | BB16: 51053.28 | BC16: - | BD16: 0 | BE16: 84726.54 | BF16: 84726.54 | BG16: 135779.82
D17: 固定资产.其他 | E17: 050600001 | F17: 固定资产.其他 | G17: 01992601230000061993 | H17: 员工浴室（肥东厂区东边围墙） | J17: U8大类05；卡号03291；资产号050600001 | L17: 直接购入 | N17: 平均年限法(二) | O17: 否 | P17: 台 | R17: 肥东厂区东边围墙 | S17: 合肥经济技术开发区君峰园林装饰工程经营部 | T17: 2019-10-24 | U17: 在用 | X17: 制剂分厂 | AB17: 正常 | AC17: 计提完成 | AD17: 2019-10-24 | AE17: 是 | AG17: 5 | AH17: 0 | AI17: 60 | AK17: - | AL17: - | AM17: - | AN17: 4 | AP17: - | AQ17: 人民币 | AR17: 1 | AS17: 人民币 | AT17: 基准汇率 | AU17: 1 | AV17: 12616.43 | AW17: 504.66 | AX17: - | AY17: 0 | AZ17: - | BA17: 0 | BB17: 12111.77 | BC17: - | BD17: 0 | BE17: 504.66 | BF17: 504.66 | BG17: 12616.43
D18: 固定资产.其他 | E18: 050600002 | F18: 固定资产.其他 | G18: 01992601230000061994 | H18: 公共厕所（肥东厂区西边围墙） | J18: U8大类05；卡号03292；资产号050600002 | L18: 直接购入 | N18: 平均年限法(二) | O18: 否 | P18: 台 | R18: 肥东分厂西边围墙 | S18: 合肥经济技术开发区君峰园林装饰工程经营部 | T18: 2019-10-24 | U18: 在用 | X18: 制剂分厂 | AB18: 正常 | AC18: 计提完成 | AD18: 2019-10-24 | AE18: 是 | AG18: 5 | AH18: 0 | AI18: 60 | AK18: - | AL18: - | AM18: - | AN18: 4 | AP18: - | AQ18: 人民币 | AR18: 1 | AS18: 人民币 | AT18: 基准汇率 | AU18: 1 | AV18: 29717.16 | AW18: 1188.69 | AX18: - | AY18: 0 | AZ18: - | BA18: 0 | BB18: 28528.47 | BC18: - | BD18: 0 | BE18: 1188.69 | BF18: 1188.69 | BG18: 29717.16
D19: 固定资产.其他 | E19: 050600003 | F19: 固定资产.其他 | G19: 01992601230000061995 | H19: 公共厕所（肥东厂区东边围墙） | J19: U8大类05；卡号03293；资产号050600003 | L19: 直接购入 | N19: 平均年限法(二) | O19: 否 | P19: 台 | R19: 肥东厂区东边围墙 | S19: 合肥经济技术开发区君峰园林装饰工程经营部 | T19: 2019-10-24 | U19: 在用 | X19: 制剂分厂 | AB19: 正常 | AC19: 计提完成 | AD19: 2019-10-24 | AE19: 是 | AG19: 5 | AH19: 0 | AI19: 60 | AK19: - | AL19: - | AM19: - | AN19: 3.9999927 | AP19: - | AQ19: 人民币 | AR19: 1 | AS19: 人民币 | AT19: 基准汇率 | AU19: 1 | AV19: 98375.18 | AW19: 3935 | AX19: - | AY19: 0 | AZ19: - | BA19: 0 | BB19: 94440.18 | BC19: - | BD19: 0 | BE19: 3935 | BF19: 3935 | BG19: 98375.18
D20: 固定资产.其他 | E20: 050400007 | F20: 固定资产.其他 | G20: 01992601230000062456 | H20: 提升泵池工程--雨污水分流改造项目 | I20: 钢筋混凝土水池，事故水提升泵池附属管道安装 | J20: U8大类05；卡号05219；资产号050400007 | L20: 在建工程转入 | N20: 平均年限法(二) | O20: 否 | P20: 台 | R20: 肥东合成 | S20: 安徽新桥建设工程有限公司 | T20: 2023-12-30 | U20: 在用 | X20: 合成分厂 | AB20: 正常 | AC20: 正常计提 | AD20: 2023-12-30 | AE20: 是 | AG20: 10 | AH20: 0 | AI20: 28 | AK20: - | AL20: - | AM20: - | AN20: 4 | AP20: - | AQ20: 人民币 | AR20: 1 | AS20: 人民币 | AT20: 基准汇率 | AU20: 1 | AV20: 217415.38 | AW20: 8696.62 | AX20: - | AY20: 1739.32 | AZ20: 1739.32 | BA20: 6957.28 | BB20: 48700.96 | BC20: - | BD20: 0 | BE20: 168714.42 | BF20: 168714.42 | BG20: 217415.38
D21: 固定资产.其他 | E21: 050400006 | F21: 固定资产.其他 | G21: 01992601230000062457 | H21: 雨水明沟工程--雨污水分流改造项目 | I21: 雨水明沟工程 | J21: U8大类05；卡号05218；资产号050400006 | L21: 在建工程转入 | N21: 平均年限法(二) | O21: 否 | P21: 台 | R21: 肥东厂区 | S21: 安徽新桥建设工程有限公司 | T21: 2023-12-30 | U21: 在用 | X21: 制剂分厂 | AB21: 正常 | AC21: 正常计提 | AD21: 2023-12-30 | AE21: 是 | AG21: 10 | AH21: 0 | AI21: 28 | AK21: - | AL21: - | AM21: - | AN21: 4 | AP21: - | AQ21: 人民币 | AR21: 1 | AS21: 人民币 | AT21: 基准汇率 | AU21: 1 | AV21: 2735784.3 | AW21: 109431.37 | AX21: - | AY21: 21886.28 | AZ21: 21886.28 | BA21: 87545.12 | BB21: 612815.6 | BC21: - | BD21: 0 | BE21: 2122968.7 | BF21: 2122968.7 | BG21: 2735784.3
D22: 固定资产.其他 | E22: 050400008 | F22: 固定资产.其他 | G22: 01992601230000062459 | H22: 污水泵池工程--雨污水分流改造项目 | I22: 钢筋混凝土水池，污水泵池附属管道安装 | J22: U8大类05；卡号05220；资产号050400008 | L22: 在建工程转入 | N22: 平均年限法(二) | O22: 否 | P22: 台 | R22: 肥东合成 | S22: 安徽新桥建设工程有限公司 | T22: 2023-12-30 | U22: 在用 | X22: 合成分厂 | AB22: 正常 | AC22: 正常计提 | AD22: 2023-12-30 | AE22: 是 | AG22: 10 | AH22: 0 | AI22: 28 | AK22: - | AL22: - | AM22: - | AN22: 4 | AP22: - | AQ22: 人民币 | AR22: 1 | AS22: 人民币 | AT22: 基准汇率 | AU22: 1 | AV22: 66973.22 | AW22: 2678.93 | AX22: - | AY22: 535.78 | AZ22: 535.78 | BA22: 2143.12 | BB22: 15002.08 | BC22: - | BD22: 0 | BE22: 51971.14 | BF22: 51971.14 | BG22: 66973.22
D23: 固定资产.其他 | E23: 050400001 | F23: 固定资产.其他 | G23: 01992601230000063145 | H23: 外管架（廊） | J23: U8大类05；卡号02282；资产号050400001 | L23: 直接购入 | N23: 平均年限法(二) | O23: 否 | P23: 台 | R23: 肥东制剂粉剂车间及微胶囊车间外管廊 | S23: 安徽力天建设有限公司 | T23: 2017-10-12 | U23: 在用 | X23: 制剂分厂 | AB23: 正常 | AC23: 正常计提 | AD23: 2017-10-12 | AE23: 是 | AG23: 10 | AH23: 0 | AI23: 103 | AK23: - | AL23: - | AM23: - | AN23: 4 | AP23: - | AQ23: 人民币 | AR23: 1 | AS23: 人民币 | AT23: 基准汇率 | AU23: 1 | AV23: 531213.28 | AW23: 21248.53 | AX23: - | AY23: 6139.02 | AZ23: 6139.02 | BA23: 24556.08 | BB23: 405601.42 | BC23: - | BD23: 0 | BE23: 125611.86 | BF23: 125611.86 | BG23: 531213.28
D24: 固定资产.其他 | E24: 050500001 | F24: 固定资产.其他 | G24: 01992601230000063286 | H24: 肥东中间体污水管网工程 | J24: U8大类05；卡号02567；资产号050500001 | L24: 在建工程转入 | N24: 平均年限法(二) | O24: 否 | P24: 台 | R24: 肥东分厂 | S24: 待梳理事项 | T24: 2014-01-20 | U24: 在用 | X24: 合成分厂 | AB24: 正常 | AC24: 计提完成 | AD24: 2014-01-20 | AE24: 是 | AG24: 10 | AH24: 0 | AI24: 120 | AK24: - | AL24: - | AM24: - | AN24: 4 | AP24: - | AQ24: 人民币 | AR24: 1 | AS24: 人民币 | AT24: 基准汇率 | AU24: 1 | AV24: 254342 | AW24: 10173.68 | AX24: - | AY24: 0 | AZ24: - | BA24: 0 | BB24: 244168.32 | BC24: - | BD24: 0 | BE24: 10173.68 | BF24: 10173.68 | BG24: 254342
D25: 固定资产.其他 | E25: 050600004 | F25: 固定资产.其他 | G25: 01992601230000064493 | H25: 电动车棚（膜结构） | I25: 长度50米，面积186㎡ | J25: U8大类05；卡号03836；资产号050600004 | L25: 直接购入 | N25: 平均年限法(二) | O25: 否 | P25: 台 | R25: 肥东分厂南大门西侧围墙边 | S25: 合肥安顺膜结构工程有限公司 | T25: 2020-08-06 | U25: 在用 | X25: 制剂分厂 | AB25: 正常 | AC25: 计提完成 | AD25: 2020-08-06 | AE25: 是 | AG25: 5 | AH25: 0 | AI25: 60 | AK25: - | AL25: - | AM25: - | AN25: 4 | AP25: - | AQ25: 人民币 | AR25: 1 | AS25: 人民币 | AT25: 基准汇率 | AU25: 1 | AV25: 70656.76 | AW25: 2826.27 | AX25: - | AY25: 0 | AZ25: - | BA25: 0 | BB25: 67830.49 | BC25: - | BD25: 0 | BE25: 2826.27 | BF25: 2826.27 | BG25: 70656.76
D26: 固定资产.其他 | E26: 050600005 | F26: 固定资产.其他 | G26: 01992601230000064543 | H26: 车间更衣亭 | I26: 外购成品 更衣亭10*6.3*3.2，可移动单体 | J26: U8大类05；卡号03853；资产号050600005 | L26: 直接购入 | N26: 平均年限法(二) | O26: 否 | P26: 台 | R26: 肥东厂区办公楼西侧二道门侧边 | S26: 合肥千宴装饰工程有限公司 | T26: 2020-09-04 | U26: 在用 | X26: 制剂分厂 | AB26: 正常 | AC26: 计提完成 | AD26: 2020-09-04 | AE26: 是 | AG26: 5 | AH26: 0 | AI26: 60 | AK26: - | AL26: - | AM26: - | AN26: 4 | AP26: - | AQ26: 人民币 | AR26: 1 | AS26: 人民币 | AT26: 基准汇率 | AU26: 1 | AV26: 100296.92 | AW26: 4011.88 | AX26: - | AY26: 0 | AZ26: - | BA26: 0 | BB26: 96285.04 | BC26: - | BD26: 0 | BE26: 4011.88 | BF26: 4011.88 | BG26: 100296.92
D27: 固定资产.其他 | E27: 050600006 | F27: 固定资产.其他 | G27: 01992601230000064546 | H27: 车间吸烟亭 | I27: 外购成品 吸烟亭2*4*2.8，可移动单体 | J27: U8大类05；卡号03854；资产号050600006 | L27: 直接购入 | N27: 平均年限法(二) | O27: 否 | P27: 台 | R27: 肥东厂区办公楼西侧二道门侧边 | S27: 合肥千宴装饰工程有限公司 | T27: 2020-09-04 | U27: 在用 | X27: 制剂分厂 | AB27: 正常 | AC27: 计提完成 | AD27: 2020-09-04 | AE27: 是 | AG27: 5 | AH27: 0 | AI27: 60 | AK27: - | AL27: - | AM27: - | AN27: 4 | AP27: - | AQ27: 人民币 | AR27: 1 | AS27: 人民币 | AT27: 基准汇率 | AU27: 1 | AV27: 11165.05 | AW27: 446.6 | AX27: - | AY27: 0 | AZ27: - | BA27: 0 | BB27: 10718.45 | BC27: - | BD27: 0 | BE27: 446.6 | BF27: 446.6 | BG27: 11165.05
D28: 固定资产.其他 | E28: 050600007 | F28: 固定资产.其他 | G28: 01992601230000064550 | H28: 车间茶水亭 | I28: 外购成品 茶水亭2*2*2.4，可移动单体 | J28: U8大类05；卡号03855；资产号050600007 | L28: 直接购入 | N28: 平均年限法(二) | O28: 否 | P28: 台 | R28: 肥东合成一车间入口 | S28: 合肥千宴装饰工程有限公司 | T28: 2020-09-04 | U28: 在用 | X28: 合成分厂 | AB28: 正常 | AC28: 计提完成 | AD28: 2020-09-04 | AE28: 是 | AG28: 5 | AH28: 0 | AI28: 60 | AK28: - | AL28: - | AM28: - | AN28: 4 | AP28: - | AQ28: 人民币 | AR28: 1 | AS28: 人民币 | AT28: 基准汇率 | AU28: 1 | AV28: 6310.68 | AW28: 252.43 | AX28: - | AY28: 0 | AZ28: - | BA28: 0 | BB28: 6058.25 | BC28: - | BD28: 0 | BE28: 252.43 | BF28: 252.43 | BG28: 6310.68
D29: 固定资产.其他 | E29: 050600008 | F29: 固定资产.其他 | G29: 01992601230000064554 | H29: 车间茶水亭 | I29: 外购成品 茶水亭2*2*2.4，可移动单体 | J29: U8大类05；卡号03856；资产号050600008 | L29: 直接购入 | N29: 平均年限法(二) | O29: 否 | P29: 台 | R29: 肥东合成二车间入口 | S29: 合肥千宴装饰工程有限公司 | T29: 2020-09-04 | U29: 在用 | X29: 合成分厂 | AB29: 正常 | AC29: 计提完成 | AD29: 2020-09-04 | AE29: 是 | AG29: 5 | AH29: 0 | AI29: 60 | AK29: - | AL29: - | AM29: - | AN29: 4 | AP29: - | AQ29: 人民币 | AR29: 1 | AS29: 人民币 | AT29: 基准汇率 | AU29: 1 | AV29: 6310.68 | AW29: 252.43 | AX29: - | AY29: 0 | AZ29: - | BA29: 0 | BB29: 6058.25 | BC29: - | BD29: 0 | BE29: 252.43 | BF29: 252.43 | BG29: 6310.68
D30: 固定资产.其他 | E30: 050600009 | F30: 固定资产.其他 | G30: 01992601230000064558 | H30: 车间茶水亭 | I30: 外购成品 茶水亭2*2*2.4，可移动单体 | J30: U8大类05；卡号03857；资产号050600009 | L30: 直接购入 | N30: 平均年限法(二) | O30: 否 | P30: 台 | R30: 肥东合成三车间入口 | S30: 合肥千宴装饰工程有限公司 | T30: 2020-09-04 | U30: 在用 | X30: 合成分厂 | AB30: 正常 | AC30: 计提完成 | AD30: 2020-09-04 | AE30: 是 | AG30: 5 | AH30: 0 | AI30: 60 | AK30: - | AL30: - | AM30: - | AN30: 4 | AP30: - | AQ30: 人民币 | AR30: 1 | AS30: 人民币 | AT30: 基准汇率 | AU30: 1 | AV30: 6310.68 | AW30: 252.43 | AX30: - | AY30: 0 | AZ30: - | BA30: 0 | BB30: 6058.25 | BC30: - | BD30: 0 | BE30: 252.43 | BF30: 252.43 | BG30: 6310.68
D31: 固定资产.其他 | E31: 050600010 | F31: 固定资产.其他 | G31: 01992601230000064562 | H31: 车间茶水亭 | I31: 外购成品 茶水亭2*2*2.4，可移动单体 | J31: U8大类05；卡号03858；资产号050600010 | L31: 直接购入 | N31: 平均年限法(二) | O31: 否 | P31: 台 | R31: 肥东合成四车间入口 | S31: 合肥千宴装饰工程有限公司 | T31: 2020-09-04 | U31: 在用 | X31: 合成分厂 | AB31: 正常 | AC31: 计提完成 | AD31: 2020-09-04 | AE31: 是 | AG31: 5 | AH31: 0 | AI31: 60 | AK31: - | AL31: - | AM31: - | AN31: 4 | AP31: - | AQ31: 人民币 | AR31: 1 | AS31: 人民币 | AT31: 基准汇率 | AU31: 1 | AV31: 6310.68 | AW31: 252.43 | AX31: - | AY31: 0 | AZ31: - | BA31: 0 | BB31: 6058.25 | BC31: - | BD31: 0 | BE31: 252.43 | BF31: 252.43 | BG31: 6310.68
D32: 固定资产.其他 | E32: 050400002 | F32: 固定资产.其他 | G32: 01992601230000064640 | H32: 肥东制剂垃圾房6间 | J32: U8大类05；卡号02787；资产号050400002 | L32: 直接购入 | N32: 平均年限法(二) | O32: 否 | P32: 台 | R32: 肥东分厂 | S32: 合肥市春华起重机械有限公司 | T32: 2018-06-19 | U32: 在用 | X32: 制剂分厂 | AB32: 正常 | AC32: 计提完成 | AD32: 2018-06-19 | AE32: 是 | AG32: 5 | AH32: 1 | AI32: 0 | AK32: - | AL32: - | AM32: - | AN32: 4 | AP32: - | AQ32: 人民币 | AR32: 1 | AS32: 人民币 | AT32: 基准汇率 | AU32: 1 | AV32: 22844.83 | AW32: 913.79 | AX32: - | AY32: 0 | AZ32: - | BA32: 0 | BB32: 21931.04 | BC32: - | BD32: 0 | BE32: 913.79 | BF32: 913.79 | BG32: 22844.83
D33: 固定资产.其他 | E33: 050400003 | F33: 固定资产.其他 | G33: 01992601230000064780 | H33: 自行车棚 | I33: 29m/4m | J33: U8大类05；卡号02834；资产号050400003 | L33: 直接购入 | N33: 平均年限法(二) | O33: 否 | P33: 台 | R33: 肥东北大门西边围墙 | S33: 合肥安顺膜结构工程有限公司 | T33: 2018-07-19 | U33: 在用 | X33: 合成分厂 | AB33: 正常 | AC33: 计提完成 | AD33: 2018-07-19 | AE33: 是 | AG33: 5 | AH33: 0 | AI33: 60 | AK33: - | AL33: - | AM33: - | AN33: 4 | AP33: - | AQ33: 人民币 | AR33: 1 | AS33: 人民币 | AT33: 基准汇率 | AU33: 1 | AV33: 25902.91 | AW33: 1036.12 | AX33: - | AY33: 0 | AZ33: - | BA33: 0 | BB33: 24866.79 | BC33: - | BD33: 0 | BE33: 1036.12 | BF33: 1036.12 | BG33: 25902.91
D34: 固定资产.其他 | E34: 050100003 | F34: 固定资产.其他 | G34: 01992601230000065043 | H34: 罐区装卸区硬化及循环道路 | I34: 构筑物 | J34: U8大类05；卡号05685；资产号050100003 | L34: 在建工程转入 | N34: 平均年限法(二) | O34: 否 | P34: 台 | R34: 肥东厂区 | S34: 安徽恒江建设有限公司 | T34: 2024-07-29 | U34: 在用 | X34: 合成分厂 | AB34: 正常 | AC34: 正常计提 | AD34: 2024-07-29 | AE34: 是 | AG34: 10 | AH34: 0 | AI34: 21 | AK34: - | AL34: - | AM34: - | AN34: 4 | AP34: - | AQ34: 人民币 | AR34: 1 | AS34: 人民币 | AT34: 基准汇率 | AU34: 1 | AV34: 342849.04 | AW34: 13713.96 | AX34: - | AY34: 2742.79 | AZ34: 2742.79 | BA34: 10971.16 | BB34: 57598.59 | BC34: - | BD34: 0 | BE34: 285250.45 | BF34: 285250.45 | BG34: 342849.04
D35: 固定资产.其他 | E35: 050400009 | F35: 固定资产.其他 | G35: 01992601230000065045 | H35: 新罐区 | I35: 构筑物，占地面积872.91㎡ | J35: U8大类05；卡号05684；资产号050400009 | L35: 在建工程转入 | N35: 平均年限法(二) | O35: 否 | P35: 台 | R35: 肥东厂区 | S35: 安徽安筑建设有限公司 | T35: 2024-07-29 | U35: 在用 | X35: 合成分厂 | AB35: 正常 | AC35: 正常计提 | AD35: 2024-07-29 | AE35: 是 | AG35: 10 | AH35: 0 | AI35: 21 | AK35: - | AL35: - | AM35: - | AN35: 4 | AP35: - | AQ35: 人民币 | AR35: 1 | AS35: 人民币 | AT35: 基准汇率 | AU35: 1 | AV35: 2609536 | AW35: 104381.44 | AX35: - | AY35: 20876.29 | AZ35: 20876.29 | BA35: 83505.16 | BB35: 438402.09 | BC35: - | BD35: 0 | BE35: 2171134 | BF35: 2171134 | BG35: 2609536
D36: 固定资产.其他 | E36: 050100004 | F36: 固定资产.其他 | G36: 01992601230000065049 | H36: 综合仓库2回车场硬化道路 | I36: 构筑物 | J36: U8大类05；卡号05686；资产号050100004 | L36: 在建工程转入 | N36: 平均年限法(二) | O36: 否 | P36: 台 | R36: 肥东厂区 | S36: 安徽恒江建设有限公司 | T36: 2024-07-29 | U36: 在用 | X36: 制剂分厂 | AB36: 正常 | AC36: 正常计提 | AD36: 2024-07-29 | AE36: 是 | AG36: 10 | AH36: 0 | AI36: 21 | AK36: - | AL36: - | AM36: - | AN36: 4 | AP36: - | AQ36: 人民币 | AR36: 1 | AS36: 人民币 | AT36: 基准汇率 | AU36: 1 | AV36: 520801.47 | AW36: 20832.06 | AX36: - | AY36: 4166.41 | AZ36: 4166.41 | BA36: 16665.64 | BB36: 87494.61 | BC36: - | BD36: 0 | BE36: 433306.86 | BF36: 433306.86 | BG36: 520801.47
D37: 固定资产.其他 | E37: 050600014 | F37: 固定资产.其他 | G37: 01992601230000065225 | H37: 打包厢式集装房（生产服务临时办公场所） | I37: 采购成品且包安装，打包型集装箱房，分上下2层*各11间共22间，每间3*6米，两侧楼梯带遮阳棚，不封过道及护栏，四坡五脊盖顶，防雷接地处理 | J37: U8大类05；卡号05720；资产号050600014 | L37: 直接购入 | N37: 平均年限法(二) | O37: 否 | P37: 台 | R37: 肥东厂区总控室南侧，即小花园旧址 | S37: 合肥亚邦集成房屋有限公司 | T37: 2024-10-18 | U37: 在用 | X37: 制剂分厂 | AB37: 正常 | AC37: 正常计提 | AD37: 2024-10-18 | AE37: 是 | AG37: 5 | AH37: 0 | AI37: 18 | AK37: - | AL37: - | AM37: - | AN37: 4 | AP37: - | AQ37: 人民币 | AR37: 1 | AS37: 人民币 | AT37: 基准汇率 | AU37: 1 | AV37: 261504.43 | AW37: 10460.18 | AX37: - | AY37: 4184.07 | AZ37: 4184.07 | BA37: 16736.28 | BB37: 75313.26 | BC37: - | BD37: 0 | BE37: 186191.17 | BF37: 186191.17 | BG37: 261504.43
D38: 固定资产.其他 | E38: 050400004 | F38: 固定资产.其他 | G38: 01992601230000065227 | H38: 肥东室内生测温室大棚 | I38: 玻璃温室大棚，面积268.80㎡，顶高5.3米，檐口高4米 | J38: U8大类05；卡号04592；资产号050400004 | L38: 在建工程转入 | N38: 平均年限法(二) | O38: 否 | P38: 台 | R38: 肥东厂区，室内生测研发试验用 | S38: 安徽丰实建设工程有限公司 | T38: 2021-06-24 | U38: 在用 | X38: 研发中心 | AB38: 正常 | AC38: 正常计提 | AD38: 2021-06-24 | AE38: 是 | AG38: 10 | AH38: 0 | AI38: 58 | AK38: - | AL38: - | AM38: - | AN38: 4 | AP38: - | AQ38: 人民币 | AR38: 1 | AS38: 人民币 | AT38: 基准汇率 | AU38: 1 | AV38: 574711.52 | AW38: 22988.46 | AX38: - | AY38: 4628.91 | AZ38: 4628.91 | BA38: 18515.64 | BB38: 264730.34 | BC38: - | BD38: 0 | BE38: 309981.18 | BF38: 309981.18 | BG38: 574711.52
D39: 固定资产.其他 | E39: 050400010 | F39: 固定资产.其他 | G39: 01992601230000065281 | H39: 综合楼生活污水收集改造工程 | I39: 埋地安装一座玻璃钢成品化粪池(4m3)和一座污水池(5m3)、埋地暗敷安装50米DN300钢筋混凝土承插管道、500米¢76碳钢污水管道 | J39: U8大类05；卡号05734；资产号050400010 | L39: 直接购入 | N39: 平均年限法(二) | O39: 否 | P39: 台 | R39: 肥东综合楼与生产办公区域生活污水管道 | S39: 安徽新桥建设工程有限公司 | T39: 2024-11-20 | U39: 在用 | X39: 制剂分厂 | AB39: 正常 | AC39: 正常计提 | AD39: 2024-11-20 | AE39: 是 | AG39: 10 | AH39: 0 | AI39: 17 | AK39: - | AL39: - | AM39: - | AN39: 4 | AP39: - | AQ39: 人民币 | AR39: 1 | AS39: 人民币 | AT39: 基准汇率 | AU39: 1 | AV39: 73166.51 | AW39: 2926.66 | AX39: - | AY39: 585.33 | AZ39: 585.33 | BA39: 2341.32 | BB39: 9950.61 | BC39: - | BD39: 0 | BE39: 63215.9 | BF39: 63215.9 | BG39: 73166.51
D40: 固定资产.其他 | E40: 050400011 | F40: 固定资产.其他 | G40: 01992601230000065304 | H40: 消防水管网改造工程（2024年） | I40: 消防水管采用DN150镀锌钢管 | J40: U8大类05；卡号05749；资产号050400011 | L40: 在建工程转入 | N40: 平均年限法(二) | O40: 否 | P40: 台 | R40: 肥东厂区 | S40: 安徽省梓凡建筑安装工程有限公司 | T40: 2024-12-25 | U40: 在用 | X40: 制剂分厂 | AB40: 正常 | AC40: 正常计提 | AD40: 2024-12-25 | AE40: 是 | AG40: 10 | AH40: 0 | AI40: 16 | AK40: - | AL40: - | AM40: - | AN40: 4 | AP40: - | AQ40: 人民币 | AR40: 1 | AS40: 人民币 | AT40: 基准汇率 | AU40: 1 | AV40: 3010685.9 | AW40: 120427.43 | AX40: - | AY40: 24085.49 | AZ40: 24085.49 | BA40: 96341.96 | BB40: 385367.84 | BC40: - | BD40: 0 | BE40: 2625318 | BF40: 2625318 | BG40: 3010685.9
